{"text_format":"1","workbook":"xlsx","n_sheets":10,"sheets":["Overall","1","2","3","4","5","6","7","8","9"],"not_rendered":{"charts":0,"images":0,"macros":1,"external_links":0,"defined_names":0,"comments":0,"pivot_tables":0},"unopened":[],"bounds":{"document_bytes":16777216,"sheet_cells":100000,"rows_first":2000,"rows_last":500,"rows_between":2000,"halvings":0,"cell_chars":16384,"cell_head_chars":4096},"cells_cut":0,"cells_raw":0,"read":"whole","date_system":"1900"}

{"sheet":"Overall","index":0,"n_rows":73,"n_cols":54,"rows_kept":73,"cut":false,"hidden":false,"merged":[]}
["Working",null,null,null,null,null,null,null,null,null,null,null,null,null,null,null,null,null,null,null,null,null,null,null,null,null,null,null,null,null,null,null,null,null,null,null,null,null,null,null,null,null,"How many can fit"]
[null,null,null,null,null,null,null,null,null,null,null,null,null,null,null,null,null,null,null,null,null,null,null,null,null,null,null,null,null,null,null,null,null,null,null,null,null,null,null,null,null,null,{"$f":"9-(IF(L43=0,0,1)+'2'!V2+'3'!V2+'4'!V2+'5'!V2+'6'!V2+'7'!V2+'8'!V2+'9'!V2)","v":4},{"$f":"9-(IF(M43=0,0,1)+'2'!W2+'3'!W2+'4'!W2+'5'!W2+'6'!W2+'7'!W2+'8'!W2+'9'!W2)","v":4},{"$f":"9-(IF(N43=0,0,1)+'2'!X2+'3'!X2+'4'!X2+'5'!X2+'6'!X2+'7'!X2+'8'!X2+'9'!X2)","v":0},{"$f":"9-(IF(O43=0,0,1)+'2'!Y2+'3'!Y2+'4'!Y2+'5'!Y2+'6'!Y2+'7'!Y2+'8'!Y2+'9'!Y2)","v":0},{"$f":"9-(IF(P43=0,0,1)+'2'!Z2+'3'!Z2+'4'!Z2+'5'!Z2+'6'!Z2+'7'!Z2+'8'!Z2+'9'!Z2)","v":5},{"$f":"9-(IF(Q43=0,0,1)+'2'!AA2+'3'!AA2+'4'!AA2+'5'!AA2+'6'!AA2+'7'!AA2+'8'!AA2+'9'!AA2)","v":3},{"$f":"9-(IF(R43=0,0,1)+'2'!AB2+'3'!AB2+'4'!AB2+'5'!AB2+'6'!AB2+'7'!AB2+'8'!AB2+'9'!AB2)","v":4},{"$f":"9-(IF(S43=0,0,1)+'2'!AC2+'3'!AC2+'4'!AC2+'5'!AC2+'6'!AC2+'7'!AC2+'8'!AC2+'9'!AC2)","v":4},{"$f":"9-(IF(T43=0,0,1)+'2'!AD2+'3'!AD2+'4'!AD2+'5'!AD2+'6'!AD2+'7'!AD2+'8'!AD2+'9'!AD2)","v":0},null,{"$f":"COUNTIF(AQ2:AY10,1)","v":0},"number of 1s"]
[null,null,null,null,null,null,null,null,null,null,null,null,null,null,null,null,null,null,null,null,null,null,null,null,null,null,null,null,null,null,null,null,null,null,null,null,null,null,null,null,null,null,{"$f":"9-(IF(L44=0,0,1)+'2'!V3+'3'!V3+'4'!V3+'5'!V3+'6'!V3+'7'!V3+'8'!V3+'9'!V3)","v":2},{"$f":"9-(IF(M44=0,0,1)+'2'!W3+'3'!W3+'4'!W3+'5'!W3+'6'!W3+'7'!W3+'8'!W3+'9'!W3)","v":3},{"$f":"9-(IF(N44=0,0,1)+'2'!X3+'3'!X3+'4'!X3+'5'!X3+'6'!X3+'7'!X3+'8'!X3+'9'!X3)","v":0},{"$f":"9-(IF(O44=0,0,1)+'2'!Y3+'3'!Y3+'4'!Y3+'5'!Y3+'6'!Y3+'7'!Y3+'8'!Y3+'9'!Y3)","v":0},{"$f":"9-(IF(P44=0,0,1)+'2'!Z3+'3'!Z3+'4'!Z3+'5'!Z3+'6'!Z3+'7'!Z3+'8'!Z3+'9'!Z3)","v":4},{"$f":"9-(IF(Q44=0,0,1)+'2'!AA3+'3'!AA3+'4'!AA3+'5'!AA3+'6'!AA3+'7'!AA3+'8'!AA3+'9'!AA3)","v":0},{"$f":"9-(IF(R44=0,0,1)+'2'!AB3+'3'!AB3+'4'!AB3+'5'!AB3+'6'!AB3+'7'!AB3+'8'!AB3+'9'!AB3)","v":3},{"$f":"9-(IF(S44=0,0,1)+'2'!AC3+'3'!AC3+'4'!AC3+'5'!AC3+'6'!AC3+'7'!AC3+'8'!AC3+'9'!AC3)","v":0},{"$f":"9-(IF(T44=0,0,1)+'2'!AD3+'3'!AD3+'4'!AD3+'5'!AD3+'6'!AD3+'7'!AD3+'8'!AD3+'9'!AD3)","v":2},null,{"$f":"COUNTIF(AQ2:AY10,2)","v":5},"number of 2s"]
[null,null,null,null,null,null,null,null,null,null,null,null,null,null,null,null,null,null,null,null,null,null,null,null,null,null,null,null,null,null,null,null,null,null,null,null,null,null,null,null,null,null,{"$f":"9-(IF(L45=0,0,1)+'2'!V4+'3'!V4+'4'!V4+'5'!V4+'6'!V4+'7'!V4+'8'!V4+'9'!V4)","v":4},{"$f":"9-(IF(M45=0,0,1)+'2'!W4+'3'!W4+'4'!W4+'5'!W4+'6'!W4+'7'!W4+'8'!W4+'9'!W4)","v":0},{"$f":"9-(IF(N45=0,0,1)+'2'!X4+'3'!X4+'4'!X4+'5'!X4+'6'!X4+'7'!X4+'8'!X4+'9'!X4)","v":6},{"$f":"9-(IF(O45=0,0,1)+'2'!Y4+'3'!Y4+'4'!Y4+'5'!Y4+'6'!Y4+'7'!Y4+'8'!Y4+'9'!Y4)","v":3},{"$f":"9-(IF(P45=0,0,1)+'2'!Z4+'3'!Z4+'4'!Z4+'5'!Z4+'6'!Z4+'7'!Z4+'8'!Z4+'9'!Z4)","v":5},{"$f":"9-(IF(Q45=0,0,1)+'2'!AA4+'3'!AA4+'4'!AA4+'5'!AA4+'6'!AA4+'7'!AA4+'8'!AA4+'9'!AA4)","v":3},{"$f":"9-(IF(R45=0,0,1)+'2'!AB4+'3'!AB4+'4'!AB4+'5'!AB4+'6'!AB4+'7'!AB4+'8'!AB4+'9'!AB4)","v":5},{"$f":"9-(IF(S45=0,0,1)+'2'!AC4+'3'!AC4+'4'!AC4+'5'!AC4+'6'!AC4+'7'!AC4+'8'!AC4+'9'!AC4)","v":6},{"$f":"9-(IF(T45=0,0,1)+'2'!AD4+'3'!AD4+'4'!AD4+'5'!AD4+'6'!AD4+'7'!AD4+'8'!AD4+'9'!AD4)","v":5}]
[null,null,null,null,null,null,null,null,null,null,null,null,null,null,null,null,null,null,null,null,null,null,null,null,null,null,null,null,null,null,null,null,null,null,null,null,null,null,null,null,null,null,{"$f":"9-(IF(L46=0,0,1)+'2'!V5+'3'!V5+'4'!V5+'5'!V5+'6'!V5+'7'!V5+'8'!V5+'9'!V5)","v":0},{"$f":"9-(IF(M46=0,0,1)+'2'!W5+'3'!W5+'4'!W5+'5'!W5+'6'!W5+'7'!W5+'8'!W5+'9'!W5)","v":4},{"$f":"9-(IF(N46=0,0,1)+'2'!X5+'3'!X5+'4'!X5+'5'!X5+'6'!X5+'7'!X5+'8'!X5+'9'!X5)","v":2},{"$f":"9-(IF(O46=0,0,1)+'2'!Y5+'3'!Y5+'4'!Y5+'5'!Y5+'6'!Y5+'7'!Y5+'8'!Y5+'9'!Y5)","v":3},{"$f":"9-(IF(P46=0,0,1)+'2'!Z5+'3'!Z5+'4'!Z5+'5'!Z5+'6'!Z5+'7'!Z5+'8'!Z5+'9'!Z5)","v":4},{"$f":"9-(IF(Q46=0,0,1)+'2'!AA5+'3'!AA5+'4'!AA5+'5'!AA5+'6'!AA5+'7'!AA5+'8'!AA5+'9'!AA5)","v":0},{"$f":"9-(IF(R46=0,0,1)+'2'!AB5+'3'!AB5+'4'!AB5+'5'!AB5+'6'!AB5+'7'!AB5+'8'!AB5+'9'!AB5)","v":3},{"$f":"9-(IF(S46=0,0,1)+'2'!AC5+'3'!AC5+'4'!AC5+'5'!AC5+'6'!AC5+'7'!AC5+'8'!AC5+'9'!AC5)","v":4},{"$f":"9-(IF(T46=0,0,1)+'2'!AD5+'3'!AD5+'4'!AD5+'5'!AD5+'6'!AD5+'7'!AD5+'8'!AD5+'9'!AD5)","v":0}]
[null,null,null,null,null,null,null,null,null,null,null,null,null,null,null,null,null,null,null,null,null,null,null,null,null,null,null,null,null,null,null,null,null,null,null,null,null,null,null,null,null,null,{"$f":"9-(IF(L47=0,0,1)+'2'!V6+'3'!V6+'4'!V6+'5'!V6+'6'!V6+'7'!V6+'8'!V6+'9'!V6)","v":3},{"$f":"9-(IF(M47=0,0,1)+'2'!W6+'3'!W6+'4'!W6+'5'!W6+'6'!W6+'7'!W6+'8'!W6+'9'!W6)","v":4},{"$f":"9-(IF(N47=0,0,1)+'2'!X6+'3'!X6+'4'!X6+'5'!X6+'6'!X6+'7'!X6+'8'!X6+'9'!X6)","v":0},{"$f":"9-(IF(O47=0,0,1)+'2'!Y6+'3'!Y6+'4'!Y6+'5'!Y6+'6'!Y6+'7'!Y6+'8'!Y6+'9'!Y6)","v":3},{"$f":"9-(IF(P47=0,0,1)+'2'!Z6+'3'!Z6+'4'!Z6+'5'!Z6+'6'!Z6+'7'!Z6+'8'!Z6+'9'!Z6)","v":0},{"$f":"9-(IF(Q47=0,0,1)+'2'!AA6+'3'!AA6+'4'!AA6+'5'!AA6+'6'!AA6+'7'!AA6+'8'!AA6+'9'!AA6)","v":4},{"$f":"9-(IF(R47=0,0,1)+'2'!AB6+'3'!AB6+'4'!AB6+'5'!AB6+'6'!AB6+'7'!AB6+'8'!AB6+'9'!AB6)","v":0},{"$f":"9-(IF(S47=0,0,1)+'2'!AC6+'3'!AC6+'4'!AC6+'5'!AC6+'6'!AC6+'7'!AC6+'8'!AC6+'9'!AC6)","v":2},{"$f":"9-(IF(T47=0,0,1)+'2'!AD6+'3'!AD6+'4'!AD6+'5'!AD6+'6'!AD6+'7'!AD6+'8'!AD6+'9'!AD6)","v":4}]
[null,null,null,null,null,null,null,null,null,null,null,null,null,null,null,null,null,null,null,null,null,null,null,null,null,null,null,null,null,null,null,null,null,null,null,null,null,null,null,null,null,null,{"$f":"9-(IF(L48=0,0,1)+'2'!V7+'3'!V7+'4'!V7+'5'!V7+'6'!V7+'7'!V7+'8'!V7+'9'!V7)","v":0},{"$f":"9-(IF(M48=0,0,1)+'2'!W7+'3'!W7+'4'!W7+'5'!W7+'6'!W7+'7'!W7+'8'!W7+'9'!W7)","v":5},{"$f":"9-(IF(N48=0,0,1)+'2'!X7+'3'!X7+'4'!X7+'5'!X7+'6'!X7+'7'!X7+'8'!X7+'9'!X7)","v":3},{"$f":"9-(IF(O48=0,0,1)+'2'!Y7+'3'!Y7+'4'!Y7+'5'!Y7+'6'!Y7+'7'!Y7+'8'!Y7+'9'!Y7)","v":0},{"$f":"9-(IF(P48=0,0,1)+'2'!Z7+'3'!Z7+'4'!Z7+'5'!Z7+'6'!Z7+'7'!Z7+'8'!Z7+'9'!Z7)","v":4},{"$f":"9-(IF(Q48=0,0,1)+'2'!AA7+'3'!AA7+'4'!AA7+'5'!AA7+'6'!AA7+'7'!AA7+'8'!AA7+'9'!AA7)","v":3},{"$f":"9-(IF(R48=0,0,1)+'2'!AB7+'3'!AB7+'4'!AB7+'5'!AB7+'6'!AB7+'7'!AB7+'8'!AB7+'9'!AB7)","v":3},{"$f":"9-(IF(S48=0,0,1)+'2'!AC7+'3'!AC7+'4'!AC7+'5'!AC7+'6'!AC7+'7'!AC7+'8'!AC7+'9'!AC7)","v":3},{"$f":"9-(IF(T48=0,0,1)+'2'!AD7+'3'!AD7+'4'!AD7+'5'!AD7+'6'!AD7+'7'!AD7+'8'!AD7+'9'!AD7)","v":0}]
[null,null,null,null,null,null,null,null,null,null,null,null,null,null,null,null,null,null,null,null,null,null,null,null,null,null,null,null,null,null,null,null,null,null,null,null,null,null,null,null,null,null,{"$f":"9-(IF(L49=0,0,1)+'2'!V8+'3'!V8+'4'!V8+'5'!V8+'6'!V8+'7'!V8+'8'!V8+'9'!V8)","v":5},{"$f":"9-(IF(M49=0,0,1)+'2'!W8+'3'!W8+'4'!W8+'5'!W8+'6'!W8+'7'!W8+'8'!W8+'9'!W8)","v":5},{"$f":"9-(IF(N49=0,0,1)+'2'!X8+'3'!X8+'4'!X8+'5'!X8+'6'!X8+'7'!X8+'8'!X8+'9'!X8)","v":4},{"$f":"9-(IF(O49=0,0,1)+'2'!Y8+'3'!Y8+'4'!Y8+'5'!Y8+'6'!Y8+'7'!Y8+'8'!Y8+'9'!Y8)","v":5},{"$f":"9-(IF(P49=0,0,1)+'2'!Z8+'3'!Z8+'4'!Z8+'5'!Z8+'6'!Z8+'7'!Z8+'8'!Z8+'9'!Z8)","v":6},{"$f":"9-(IF(Q49=0,0,1)+'2'!AA8+'3'!AA8+'4'!AA8+'5'!AA8+'6'!AA8+'7'!AA8+'8'!AA8+'9'!AA8)","v":5},{"$f":"9-(IF(R49=0,0,1)+'2'!AB8+'3'!AB8+'4'!AB8+'5'!AB8+'6'!AB8+'7'!AB8+'8'!AB8+'9'!AB8)","v":5},{"$f":"9-(IF(S49=0,0,1)+'2'!AC8+'3'!AC8+'4'!AC8+'5'!AC8+'6'!AC8+'7'!AC8+'8'!AC8+'9'!AC8)","v":0},{"$f":"9-(IF(T49=0,0,1)+'2'!AD8+'3'!AD8+'4'!AD8+'5'!AD8+'6'!AD8+'7'!AD8+'8'!AD8+'9'!AD8)","v":4}]
[null,null,null,null,null,null,null,null,null,null,null,null,null,null,null,null,null,null,null,null,null,null,null,null,null,null,null,null,null,null,null,null,null,null,null,null,null,null,null,null,null,null,{"$f":"9-(IF(L50=0,0,1)+'2'!V9+'3'!V9+'4'!V9+'5'!V9+'6'!V9+'7'!V9+'8'!V9+'9'!V9)","v":4},{"$f":"9-(IF(M50=0,0,1)+'2'!W9+'3'!W9+'4'!W9+'5'!W9+'6'!W9+'7'!W9+'8'!W9+'9'!W9)","v":0},{"$f":"9-(IF(N50=0,0,1)+'2'!X9+'3'!X9+'4'!X9+'5'!X9+'6'!X9+'7'!X9+'8'!X9+'9'!X9)","v":3},{"$f":"9-(IF(O50=0,0,1)+'2'!Y9+'3'!Y9+'4'!Y9+'5'!Y9+'6'!Y9+'7'!Y9+'8'!Y9+'9'!Y9)","v":0},{"$f":"9-(IF(P50=0,0,1)+'2'!Z9+'3'!Z9+'4'!Z9+'5'!Z9+'6'!Z9+'7'!Z9+'8'!Z9+'9'!Z9)","v":4},{"$f":"9-(IF(Q50=0,0,1)+'2'!AA9+'3'!AA9+'4'!AA9+'5'!AA9+'6'!AA9+'7'!AA9+'8'!AA9+'9'!AA9)","v":0},{"$f":"9-(IF(R50=0,0,1)+'2'!AB9+'3'!AB9+'4'!AB9+'5'!AB9+'6'!AB9+'7'!AB9+'8'!AB9+'9'!AB9)","v":0},{"$f":"9-(IF(S50=0,0,1)+'2'!AC9+'3'!AC9+'4'!AC9+'5'!AC9+'6'!AC9+'7'!AC9+'8'!AC9+'9'!AC9)","v":3},{"$f":"9-(IF(T50=0,0,1)+'2'!AD9+'3'!AD9+'4'!AD9+'5'!AD9+'6'!AD9+'7'!AD9+'8'!AD9+'9'!AD9)","v":2}]
[null,null,null,null,null,null,null,null,null,null,null,null,null,null,null,null,null,null,null,null,null,null,null,null,null,null,null,null,null,null,null,null,null,null,null,null,null,null,null,null,null,null,{"$f":"9-(IF(L51=0,0,1)+'2'!V10+'3'!V10+'4'!V10+'5'!V10+'6'!V10+'7'!V10+'8'!V10+'9'!V10)","v":0},{"$f":"9-(IF(M51=0,0,1)+'2'!W10+'3'!W10+'4'!W10+'5'!W10+'6'!W10+'7'!W10+'8'!W10+'9'!W10)","v":5},{"$f":"9-(IF(N51=0,0,1)+'2'!X10+'3'!X10+'4'!X10+'5'!X10+'6'!X10+'7'!X10+'8'!X10+'9'!X10)","v":4},{"$f":"9-(IF(O51=0,0,1)+'2'!Y10+'3'!Y10+'4'!Y10+'5'!Y10+'6'!Y10+'7'!Y10+'8'!Y10+'9'!Y10)","v":3},{"$f":"9-(IF(P51=0,0,1)+'2'!Z10+'3'!Z10+'4'!Z10+'5'!Z10+'6'!Z10+'7'!Z10+'8'!Z10+'9'!Z10)","v":4},{"$f":"9-(IF(Q51=0,0,1)+'2'!AA10+'3'!AA10+'4'!AA10+'5'!AA10+'6'!AA10+'7'!AA10+'8'!AA10+'9'!AA10)","v":0},{"$f":"9-(IF(R51=0,0,1)+'2'!AB10+'3'!AB10+'4'!AB10+'5'!AB10+'6'!AB10+'7'!AB10+'8'!AB10+'9'!AB10)","v":0},{"$f":"9-(IF(S51=0,0,1)+'2'!AC10+'3'!AC10+'4'!AC10+'5'!AC10+'6'!AC10+'7'!AC10+'8'!AC10+'9'!AC10)","v":4},{"$f":"9-(IF(T51=0,0,1)+'2'!AD10+'3'!AD10+'4'!AD10+'5'!AD10+'6'!AD10+'7'!AD10+'8'!AD10+'9'!AD10)","v":3}]
[]
["Problem",null,null,null,null,null,null,null,null,null,null,null,null,null,null,null,null,null,null,null,null,null,null,null,null,null,null,null,null,null,null,null,null,null,null,null,null,null,null,null,null,null,"Conflicts"]
[null,null,9,5,null,null,null,null,6,null,null,null,null,null,null,null,null,null,null,null,null,null,null,null,null,null,null,null,null,null,null,null,null,null,null,null,null,null,null,null,null,null,{"$f":"IF(OR(AQ2+A24=0,LEN(AQ24)>1),1,0)","v":0},{"$f":"IF(OR(AR2+B24=0,LEN(AR24)>1),1,0)","v":0},{"$f":"IF(OR(AS2+C24=0,LEN(AS24)>1),1,0)","v":0},{"$f":"IF(OR(AT2+D24=0,LEN(AT24)>1),1,0)","v":0},{"$f":"IF(OR(AU2+E24=0,LEN(AU24)>1),1,0)","v":0},{"$f":"IF(OR(AV2+F24=0,LEN(AV24)>1),1,0)","v":0},{"$f":"IF(OR(AW2+G24=0,LEN(AW24)>1),1,0)","v":0},{"$f":"IF(OR(AX2+H24=0,LEN(AX24)>1),1,0)","v":0},{"$f":"IF(OR(AY2+I24=0,LEN(AY24)>1),1,0)","v":0},null,{"$f":"COUNTIF(AQ13:AY21,1)","v":0}]
[null,null,4,9,null,2,null,8,null,null,null,null,null,null,null,null,null,null,null,null,null,null,null,null,null,null,null,null,null,null,null,null,null,null,null,null,null,null,null,null,null,null,0,0,0,0,0,0,0,0,0]
[null,6,null,null,null,null,null,null,null,null,null,null,null,null,null,null,null,null,null,null,null,null,null,null,null,null,null,null,null,null,null,null,null,null,null,null,null,null,null,null,null,null,0,0,0,0,0,0,0,0,0]
[1,null,null,null,null,8,null,null,3,null,null,null,null,null,null,null,null,null,null,null,null,null,null,null,null,null,null,null,null,null,null,null,null,null,null,null,null,null,null,null,null,null,0,0,0,0,0,0,0,0,0]
[null,null,6,null,9,null,2,null,null,null,null,null,null,null,null,null,null,null,null,null,null,null,null,null,null,null,null,null,null,null,null,null,null,null,null,null,null,null,null,null,null,null,0,0,0,0,0,0,0,0,0]
[5,null,null,7,null,null,null,null,1,null,null,null,null,null,null,null,null,null,null,null,null,null,null,null,null,null,null,null,null,null,null,null,null,null,null,null,null,null,null,null,null,null,0,0,0,0,0,0,0,0,0]
[null,null,null,null,null,null,null,7,null,null,null,null,null,null,null,null,null,null,null,null,null,null,null,null,null,null,null,null,null,null,null,null,null,null,null,null,null,null,null,null,null,null,0,0,0,0,0,0,0,0,0]
[null,1,null,8,null,9,5,null,null,null,null,null,null,null,null,null,null,null,null,null,null,null,null,null,null,null,null,null,null,null,null,null,null,null,null,null,null,null,null,null,null,null,0,0,0,0,0,0,0,0,0]
[4,null,null,null,null,7,6,null,null,null,null,null,null,null,null,null,null,null,null,null,null,null,null,null,null,null,null,null,null,null,null,null,null,null,null,null,null,null,null,null,null,null,0,0,0,0,0,0,0,0,0]
[]
["Solution",null,null,null,null,null,null,null,null,null,null,null,null,null,null,null,null,null,null,null,null,null,null,null,null,null,null,null,null,null,null,null,null,null,null,null,null,null,null,null,null,null,"Singles"]
[{"$f":"IF(A13<>\"\",A13,A2)","v":0},0,9,5,0,0,0,0,6,{"$f":"COUNTIF(A24:I32,0)","v":56},null,null,null,null,null,null,null,null,null,null,null,null,null,null,null,null,null,null,null,null,null,null,null,null,null,null,null,null,null,null,null,null,{"$f":"'1'!V13&'2'!V13&'3'!V13&'4'!V13&'5'!V13&'6'!V13&'7'!V13&'8'!V13&'9'!V13","v":""},{"$f":"'1'!W13&'2'!W13&'3'!W13&'4'!W13&'5'!W13&'6'!W13&'7'!W13&'8'!W13&'9'!W13","v":""},{"$f":"'1'!X13&'2'!X13&'3'!X13&'4'!X13&'5'!X13&'6'!X13&'7'!X13&'8'!X13&'9'!X13","v":""},{"$f":"'1'!Y13&'2'!Y13&'3'!Y13&'4'!Y13&'5'!Y13&'6'!Y13&'7'!Y13&'8'!Y13&'9'!Y13","v":""},{"$f":"'1'!Z13&'2'!Z13&'3'!Z13&'4'!Z13&'5'!Z13&'6'!Z13&'7'!Z13&'8'!Z13&'9'!Z13","v":""},{"$f":"'1'!AA13&'2'!AA13&'3'!AA13&'4'!AA13&'5'!AA13&'6'!AA13&'7'!AA13&'8'!AA13&'9'!AA13","v":""},{"$f":"'1'!AB13&'2'!AB13&'3'!AB13&'4'!AB13&'5'!AB13&'6'!AB13&'7'!AB13&'8'!AB13&'9'!AB13","v":""},{"$f":"'1'!AC13&'2'!AC13&'3'!AC13&'4'!AC13&'5'!AC13&'6'!AC13&'7'!AC13&'8'!AC13&'9'!AC13","v":""},{"$f":"'1'!AD13&'2'!AD13&'3'!AD13&'4'!AD13&'5'!AD13&'6'!AD13&'7'!AD13&'8'!AD13&'9'!AD13","v":""},null,{"$f":"81-COUNTIF(AQ24:AY32,\"\")","v":3}]
[{"$f":"IF(A14<>\"\",A14,A3)","v":0},0,4,9,0,2,0,8,0,null,null,null,null,null,null,null,null,null,null,null,null,null,null,null,null,null,null,null,null,null,null,null,null,null,null,null,null,null,null,null,null,null,{"$f":"'1'!V14&'2'!V14&'3'!V14&'4'!V14&'5'!V14&'6'!V14&'7'!V14&'8'!V14&'9'!V14","v":""},{"$f":"'1'!W14&'2'!W14&'3'!W14&'4'!W14&'5'!W14&'6'!W14&'7'!W14&'8'!W14&'9'!W14","v":""},{"$f":"'1'!X14&'2'!X14&'3'!X14&'4'!X14&'5'!X14&'6'!X14&'7'!X14&'8'!X14&'9'!X14","v":""},{"$f":"'1'!Y14&'2'!Y14&'3'!Y14&'4'!Y14&'5'!Y14&'6'!Y14&'7'!Y14&'8'!Y14&'9'!Y14","v":""},{"$f":"'1'!Z14&'2'!Z14&'3'!Z14&'4'!Z14&'5'!Z14&'6'!Z14&'7'!Z14&'8'!Z14&'9'!Z14","v":"6"},{"$f":"'1'!AA14&'2'!AA14&'3'!AA14&'4'!AA14&'5'!AA14&'6'!AA14&'7'!AA14&'8'!AA14&'9'!AA14","v":""},{"$f":"'1'!AB14&'2'!AB14&'3'!AB14&'4'!AB14&'5'!AB14&'6'!AB14&'7'!AB14&'8'!AB14&'9'!AB14","v":""},{"$f":"'1'!AC14&'2'!AC14&'3'!AC14&'4'!AC14&'5'!AC14&'6'!AC14&'7'!AC14&'8'!AC14&'9'!AC14","v":""},{"$f":"'1'!AD14&'2'!AD14&'3'!AD14&'4'!AD14&'5'!AD14&'6'!AD14&'7'!AD14&'8'!AD14&'9'!AD14","v":""}]
[{"$f":"IF(A15<>\"\",A15,A4)","v":0},6,0,0,0,0,0,0,0,null,null,null,null,null,null,null,null,null,null,null,null,null,null,null,null,null,null,null,null,null,null,null,null,null,null,null,null,null,null,null,null,null,{"$f":"'1'!V15&'2'!V15&'3'!V15&'4'!V15&'5'!V15&'6'!V15&'7'!V15&'8'!V15&'9'!V15","v":""},{"$f":"'1'!W15&'2'!W15&'3'!W15&'4'!W15&'5'!W15&'6'!W15&'7'!W15&'8'!W15&'9'!W15","v":""},{"$f":"'1'!X15&'2'!X15&'3'!X15&'4'!X15&'5'!X15&'6'!X15&'7'!X15&'8'!X15&'9'!X15","v":"1"},{"$f":"'1'!Y15&'2'!Y15&'3'!Y15&'4'!Y15&'5'!Y15&'6'!Y15&'7'!Y15&'8'!Y15&'9'!Y15","v":""},{"$f":"'1'!Z15&'2'!Z15&'3'!Z15&'4'!Z15&'5'!Z15&'6'!Z15&'7'!Z15&'8'!Z15&'9'!Z15","v":""},{"$f":"'1'!AA15&'2'!AA15&'3'!AA15&'4'!AA15&'5'!AA15&'6'!AA15&'7'!AA15&'8'!AA15&'9'!AA15","v":""},{"$f":"'1'!AB15&'2'!AB15&'3'!AB15&'4'!AB15&'5'!AB15&'6'!AB15&'7'!AB15&'8'!AB15&'9'!AB15","v":""},{"$f":"'1'!AC15&'2'!AC15&'3'!AC15&'4'!AC15&'5'!AC15&'6'!AC15&'7'!AC15&'8'!AC15&'9'!AC15","v":""},{"$f":"'1'!AD15&'2'!AD15&'3'!AD15&'4'!AD15&'5'!AD15&'6'!AD15&'7'!AD15&'8'!AD15&'9'!AD15","v":""}]
[{"$f":"IF(A16<>\"\",A16,A5)","v":1},0,0,0,0,8,0,0,3,null,null,null,null,null,null,null,null,null,null,null,null,null,null,null,null,null,null,null,null,null,null,null,null,null,null,null,null,null,null,null,null,null,{"$f":"'1'!V16&'2'!V16&'3'!V16&'4'!V16&'5'!V16&'6'!V16&'7'!V16&'8'!V16&'9'!V16","v":""},{"$f":"'1'!W16&'2'!W16&'3'!W16&'4'!W16&'5'!W16&'6'!W16&'7'!W16&'8'!W16&'9'!W16","v":""},{"$f":"'1'!X16&'2'!X16&'3'!X16&'4'!X16&'5'!X16&'6'!X16&'7'!X16&'8'!X16&'9'!X16","v":""},{"$f":"'1'!Y16&'2'!Y16&'3'!Y16&'4'!Y16&'5'!Y16&'6'!Y16&'7'!Y16&'8'!Y16&'9'!Y16","v":""},{"$f":"'1'!Z16&'2'!Z16&'3'!Z16&'4'!Z16&'5'!Z16&'6'!Z16&'7'!Z16&'8'!Z16&'9'!Z16","v":""},{"$f":"'1'!AA16&'2'!AA16&'3'!AA16&'4'!AA16&'5'!AA16&'6'!AA16&'7'!AA16&'8'!AA16&'9'!AA16","v":""},{"$f":"'1'!AB16&'2'!AB16&'3'!AB16&'4'!AB16&'5'!AB16&'6'!AB16&'7'!AB16&'8'!AB16&'9'!AB16","v":""},{"$f":"'1'!AC16&'2'!AC16&'3'!AC16&'4'!AC16&'5'!AC16&'6'!AC16&'7'!AC16&'8'!AC16&'9'!AC16","v":""},{"$f":"'1'!AD16&'2'!AD16&'3'!AD16&'4'!AD16&'5'!AD16&'6'!AD16&'7'!AD16&'8'!AD16&'9'!AD16","v":""}]
[{"$f":"IF(A17<>\"\",A17,A6)","v":0},0,6,0,9,0,2,0,0,null,null,null,null,null,null,null,null,null,null,null,null,null,null,null,null,null,null,null,null,null,null,null,null,null,null,null,null,null,null,null,null,null,{"$f":"'1'!V17&'2'!V17&'3'!V17&'4'!V17&'5'!V17&'6'!V17&'7'!V17&'8'!V17&'9'!V17","v":""},{"$f":"'1'!W17&'2'!W17&'3'!W17&'4'!W17&'5'!W17&'6'!W17&'7'!W17&'8'!W17&'9'!W17","v":""},{"$f":"'1'!X17&'2'!X17&'3'!X17&'4'!X17&'5'!X17&'6'!X17&'7'!X17&'8'!X17&'9'!X17","v":""},{"$f":"'1'!Y17&'2'!Y17&'3'!Y17&'4'!Y17&'5'!Y17&'6'!Y17&'7'!Y17&'8'!Y17&'9'!Y17","v":""},{"$f":"'1'!Z17&'2'!Z17&'3'!Z17&'4'!Z17&'5'!Z17&'6'!Z17&'7'!Z17&'8'!Z17&'9'!Z17","v":""},{"$f":"'1'!AA17&'2'!AA17&'3'!AA17&'4'!AA17&'5'!AA17&'6'!AA17&'7'!AA17&'8'!AA17&'9'!AA17","v":""},{"$f":"'1'!AB17&'2'!AB17&'3'!AB17&'4'!AB17&'5'!AB17&'6'!AB17&'7'!AB17&'8'!AB17&'9'!AB17","v":""},{"$f":"'1'!AC17&'2'!AC17&'3'!AC17&'4'!AC17&'5'!AC17&'6'!AC17&'7'!AC17&'8'!AC17&'9'!AC17","v":""},{"$f":"'1'!AD17&'2'!AD17&'3'!AD17&'4'!AD17&'5'!AD17&'6'!AD17&'7'!AD17&'8'!AD17&'9'!AD17","v":""}]
[{"$f":"IF(A18<>\"\",A18,A7)","v":5},0,0,7,0,0,0,0,1,null,null,null,null,null,null,null,null,null,null,null,null,null,null,null,null,null,null,null,null,null,null,null,null,null,null,null,null,null,null,null,null,null,{"$f":"'1'!V18&'2'!V18&'3'!V18&'4'!V18&'5'!V18&'6'!V18&'7'!V18&'8'!V18&'9'!V18","v":""},{"$f":"'1'!W18&'2'!W18&'3'!W18&'4'!W18&'5'!W18&'6'!W18&'7'!W18&'8'!W18&'9'!W18","v":""},{"$f":"'1'!X18&'2'!X18&'3'!X18&'4'!X18&'5'!X18&'6'!X18&'7'!X18&'8'!X18&'9'!X18","v":""},{"$f":"'1'!Y18&'2'!Y18&'3'!Y18&'4'!Y18&'5'!Y18&'6'!Y18&'7'!Y18&'8'!Y18&'9'!Y18","v":""},{"$f":"'1'!Z18&'2'!Z18&'3'!Z18&'4'!Z18&'5'!Z18&'6'!Z18&'7'!Z18&'8'!Z18&'9'!Z18","v":""},{"$f":"'1'!AA18&'2'!AA18&'3'!AA18&'4'!AA18&'5'!AA18&'6'!AA18&'7'!AA18&'8'!AA18&'9'!AA18","v":""},{"$f":"'1'!AB18&'2'!AB18&'3'!AB18&'4'!AB18&'5'!AB18&'6'!AB18&'7'!AB18&'8'!AB18&'9'!AB18","v":""},{"$f":"'1'!AC18&'2'!AC18&'3'!AC18&'4'!AC18&'5'!AC18&'6'!AC18&'7'!AC18&'8'!AC18&'9'!AC18","v":""},{"$f":"'1'!AD18&'2'!AD18&'3'!AD18&'4'!AD18&'5'!AD18&'6'!AD18&'7'!AD18&'8'!AD18&'9'!AD18","v":""}]
[{"$f":"IF(A19<>\"\",A19,A8)","v":0},0,0,0,0,0,0,7,0,null,null,null,null,null,null,null,null,null,null,null,null,null,null,null,null,null,null,null,null,null,null,null,null,null,null,null,null,null,null,null,null,null,{"$f":"'1'!V19&'2'!V19&'3'!V19&'4'!V19&'5'!V19&'6'!V19&'7'!V19&'8'!V19&'9'!V19","v":"9"},{"$f":"'1'!W19&'2'!W19&'3'!W19&'4'!W19&'5'!W19&'6'!W19&'7'!W19&'8'!W19&'9'!W19","v":""},{"$f":"'1'!X19&'2'!X19&'3'!X19&'4'!X19&'5'!X19&'6'!X19&'7'!X19&'8'!X19&'9'!X19","v":""},{"$f":"'1'!Y19&'2'!Y19&'3'!Y19&'4'!Y19&'5'!Y19&'6'!Y19&'7'!Y19&'8'!Y19&'9'!Y19","v":""},{"$f":"'1'!Z19&'2'!Z19&'3'!Z19&'4'!Z19&'5'!Z19&'6'!Z19&'7'!Z19&'8'!Z19&'9'!Z19","v":""},{"$f":"'1'!AA19&'2'!AA19&'3'!AA19&'4'!AA19&'5'!AA19&'6'!AA19&'7'!AA19&'8'!AA19&'9'!AA19","v":""},{"$f":"'1'!AB19&'2'!AB19&'3'!AB19&'4'!AB19&'5'!AB19&'6'!AB19&'7'!AB19&'8'!AB19&'9'!AB19","v":""},{"$f":"'1'!AC19&'2'!AC19&'3'!AC19&'4'!AC19&'5'!AC19&'6'!AC19&'7'!AC19&'8'!AC19&'9'!AC19","v":""},{"$f":"'1'!AD19&'2'!AD19&'3'!AD19&'4'!AD19&'5'!AD19&'6'!AD19&'7'!AD19&'8'!AD19&'9'!AD19","v":""}]
[{"$f":"IF(A20<>\"\",A20,A9)","v":0},1,0,8,0,9,5,0,0,null,null,null,null,null,null,null,null,null,null,null,null,null,null,null,null,null,null,null,null,null,null,null,null,null,null,null,null,null,null,null,null,null,{"$f":"'1'!V20&'2'!V20&'3'!V20&'4'!V20&'5'!V20&'6'!V20&'7'!V20&'8'!V20&'9'!V20","v":""},{"$f":"'1'!W20&'2'!W20&'3'!W20&'4'!W20&'5'!W20&'6'!W20&'7'!W20&'8'!W20&'9'!W20","v":""},{"$f":"'1'!X20&'2'!X20&'3'!X20&'4'!X20&'5'!X20&'6'!X20&'7'!X20&'8'!X20&'9'!X20","v":""},{"$f":"'1'!Y20&'2'!Y20&'3'!Y20&'4'!Y20&'5'!Y20&'6'!Y20&'7'!Y20&'8'!Y20&'9'!Y20","v":""},{"$f":"'1'!Z20&'2'!Z20&'3'!Z20&'4'!Z20&'5'!Z20&'6'!Z20&'7'!Z20&'8'!Z20&'9'!Z20","v":""},{"$f":"'1'!AA20&'2'!AA20&'3'!AA20&'4'!AA20&'5'!AA20&'6'!AA20&'7'!AA20&'8'!AA20&'9'!AA20","v":""},{"$f":"'1'!AB20&'2'!AB20&'3'!AB20&'4'!AB20&'5'!AB20&'6'!AB20&'7'!AB20&'8'!AB20&'9'!AB20","v":""},{"$f":"'1'!AC20&'2'!AC20&'3'!AC20&'4'!AC20&'5'!AC20&'6'!AC20&'7'!AC20&'8'!AC20&'9'!AC20","v":""},{"$f":"'1'!AD20&'2'!AD20&'3'!AD20&'4'!AD20&'5'!AD20&'6'!AD20&'7'!AD20&'8'!AD20&'9'!AD20","v":""}]
[{"$f":"IF(A21<>\"\",A21,A10)","v":4},0,0,0,0,7,6,0,0,null,null,null,null,null,null,null,null,null,null,null,null,null,null,null,null,null,null,null,null,null,null,null,null,null,null,null,null,null,null,null,null,null,{"$f":"'1'!V21&'2'!V21&'3'!V21&'4'!V21&'5'!V21&'6'!V21&'7'!V21&'8'!V21&'9'!V21","v":""},{"$f":"'1'!W21&'2'!W21&'3'!W21&'4'!W21&'5'!W21&'6'!W21&'7'!W21&'8'!W21&'9'!W21","v":""},{"$f":"'1'!X21&'2'!X21&'3'!X21&'4'!X21&'5'!X21&'6'!X21&'7'!X21&'8'!X21&'9'!X21","v":""},{"$f":"'1'!Y21&'2'!Y21&'3'!Y21&'4'!Y21&'5'!Y21&'6'!Y21&'7'!Y21&'8'!Y21&'9'!Y21","v":""},{"$f":"'1'!Z21&'2'!Z21&'3'!Z21&'4'!Z21&'5'!Z21&'6'!Z21&'7'!Z21&'8'!Z21&'9'!Z21","v":""},{"$f":"'1'!AA21&'2'!AA21&'3'!AA21&'4'!AA21&'5'!AA21&'6'!AA21&'7'!AA21&'8'!AA21&'9'!AA21","v":""},{"$f":"'1'!AB21&'2'!AB21&'3'!AB21&'4'!AB21&'5'!AB21&'6'!AB21&'7'!AB21&'8'!AB21&'9'!AB21","v":""},{"$f":"'1'!AC21&'2'!AC21&'3'!AC21&'4'!AC21&'5'!AC21&'6'!AC21&'7'!AC21&'8'!AC21&'9'!AC21","v":""},{"$f":"'1'!AD21&'2'!AD21&'3'!AD21&'4'!AD21&'5'!AD21&'6'!AD21&'7'!AD21&'8'!AD21&'9'!AD21","v":""}]
[]
[]
[]
[]
[]
[]
[]
[]
[]
[null,null,null,null,null,null,null,null,null,null,null,1,null,null,null,null,null,null,null,null,null,2,null,null,null,null,null,null,null,null,null,3]
[null,null,null,null,null,null,null,null,null,null,null,{"$f":"IF(A24=$L$42,2,IF(A24<>0,1,IF((COUNTIF($A24:$I24,$L$42)+COUNTIF(A$24:A$32,$L$42)+COUNTIF($A$24:$C$26,$L$42))<>0,3,0)))","v":3},3,1,{"$f":"IF(D24=$L$42,2,IF(D24<>0,1,IF((COUNTIF($A24:$I24,$L$42)+COUNTIF(D$24:D$32,$L$42)+COUNTIF($D$24:$F$26,$L$42))<>0,3,0)))","v":1},0,0,{"$f":"IF(G24=$L$42,2,IF(G24<>0,1,IF((COUNTIF($A24:$I24,$L$42)+COUNTIF(G$24:G$32,$L$42)+COUNTIF($G$24:$I$26,$L$42))<>0,3,0)))","v":0},0,1,null,{"$f":"'2'!L2","v":0},{"$f":"'2'!M2","v":0},{"$f":"'2'!N2","v":1},{"$f":"'2'!O2","v":1},{"$f":"'2'!P2","v":3},{"$f":"'2'!Q2","v":3},{"$f":"'2'!R2","v":3},{"$f":"'2'!S2","v":0},{"$f":"'2'!T2","v":1},null,{"$f":"'3'!L2","v":0},{"$f":"'3'!M2","v":0},{"$f":"'3'!N2","v":1},{"$f":"'3'!O2","v":1},{"$f":"'3'!P2","v":0},{"$f":"'3'!Q2","v":0},{"$f":"'3'!R2","v":0},{"$f":"'3'!S2","v":0},{"$f":"'3'!T2","v":1}]
[null,null,null,null,null,null,null,null,null,null,null,3,3,1,1,0,1,0,1,3,null,{"$f":"'2'!L3","v":3},{"$f":"'2'!M3","v":3},{"$f":"'2'!N3","v":1},{"$f":"'2'!O3","v":1},{"$f":"'2'!P3","v":3},{"$f":"'2'!Q3","v":2},{"$f":"'2'!R3","v":3},{"$f":"'2'!S3","v":1},{"$f":"'2'!T3","v":3},null,{"$f":"'3'!L3","v":0},{"$f":"'3'!M3","v":0},{"$f":"'3'!N3","v":1},{"$f":"'3'!O3","v":1},{"$f":"'3'!P3","v":0},{"$f":"'3'!Q3","v":1},{"$f":"'3'!R3","v":0},{"$f":"'3'!S3","v":1},{"$f":"'3'!T3","v":3}]
[null,null,null,null,null,null,null,null,null,null,null,3,1,0,0,0,0,0,0,3,null,{"$f":"'2'!L4","v":0},{"$f":"'2'!M4","v":1},{"$f":"'2'!N4","v":0},{"$f":"'2'!O4","v":3},{"$f":"'2'!P4","v":3},{"$f":"'2'!Q4","v":3},{"$f":"'2'!R4","v":3},{"$f":"'2'!S4","v":0},{"$f":"'2'!T4","v":0},null,{"$f":"'3'!L4","v":0},{"$f":"'3'!M4","v":1},{"$f":"'3'!N4","v":0},{"$f":"'3'!O4","v":0},{"$f":"'3'!P4","v":0},{"$f":"'3'!Q4","v":0},{"$f":"'3'!R4","v":0},{"$f":"'3'!S4","v":0},{"$f":"'3'!T4","v":3}]
[null,null,null,null,null,null,null,null,null,null,null,{"$f":"IF(A27=$L$42,2,IF(A27<>0,1,IF((COUNTIF($A27:$I27,$L$42)+COUNTIF(A$24:A$32,$L$42)+COUNTIF($A$27:$C$29,$L$42))<>0,3,0)))","v":2},3,3,{"$f":"IF(D27=$L$42,2,IF(D27<>0,1,IF((COUNTIF($A27:$I27,$L$42)+COUNTIF(D$24:D$32,$L$42)+COUNTIF($D$27:$F$29,$L$42))<>0,3,0)))","v":3},3,1,{"$f":"IF(G27=$L$42,2,IF(G27<>0,1,IF((COUNTIF($A27:$I27,$L$42)+COUNTIF(G$24:G$32,$L$42)+COUNTIF($G$27:$I$29,$L$42))<>0,3,0)))","v":3},3,1,null,{"$f":"'2'!L5","v":1},{"$f":"'2'!M5","v":0},{"$f":"'2'!N5","v":0},{"$f":"'2'!O5","v":0},{"$f":"'2'!P5","v":0},{"$f":"'2'!Q5","v":1},{"$f":"'2'!R5","v":3},{"$f":"'2'!S5","v":3},{"$f":"'2'!T5","v":1},null,{"$f":"'3'!L5","v":1},{"$f":"'3'!M5","v":3},{"$f":"'3'!N5","v":3},{"$f":"'3'!O5","v":3},{"$f":"'3'!P5","v":3},{"$f":"'3'!Q5","v":1},{"$f":"'3'!R5","v":3},{"$f":"'3'!S5","v":3},{"$f":"'3'!T5","v":2}]
[null,null,null,null,null,null,null,null,null,null,null,3,3,1,0,1,0,1,3,3,null,{"$f":"'2'!L6","v":3},{"$f":"'2'!M6","v":3},{"$f":"'2'!N6","v":1},{"$f":"'2'!O6","v":3},{"$f":"'2'!P6","v":1},{"$f":"'2'!Q6","v":3},{"$f":"'2'!R6","v":2},{"$f":"'2'!S6","v":3},{"$f":"'2'!T6","v":3},null,{"$f":"'3'!L6","v":0},{"$f":"'3'!M6","v":0},{"$f":"'3'!N6","v":1},{"$f":"'3'!O6","v":0},{"$f":"'3'!P6","v":1},{"$f":"'3'!Q6","v":0},{"$f":"'3'!R6","v":1},{"$f":"'3'!S6","v":3},{"$f":"'3'!T6","v":3}]
[null,null,null,null,null,null,null,null,null,null,null,1,3,3,1,3,3,3,3,2,null,{"$f":"'2'!L7","v":1},{"$f":"'2'!M7","v":0},{"$f":"'2'!N7","v":0},{"$f":"'2'!O7","v":1},{"$f":"'2'!P7","v":0},{"$f":"'2'!Q7","v":3},{"$f":"'2'!R7","v":3},{"$f":"'2'!S7","v":3},{"$f":"'2'!T7","v":1},null,{"$f":"'3'!L7","v":1},{"$f":"'3'!M7","v":0},{"$f":"'3'!N7","v":0},{"$f":"'3'!O7","v":1},{"$f":"'3'!P7","v":0},{"$f":"'3'!Q7","v":0},{"$f":"'3'!R7","v":3},{"$f":"'3'!S7","v":3},{"$f":"'3'!T7","v":1}]
[null,null,null,null,null,null,null,null,null,null,null,{"$f":"IF(A30=$L$42,2,IF(A30<>0,1,IF((COUNTIF($A30:$I30,$L$42)+COUNTIF(A$24:A$32,$L$42)+COUNTIF($A$30:$C$32,$L$42))<>0,3,0)))","v":3},3,3,{"$f":"IF(D30=$L$42,2,IF(D30<>0,1,IF((COUNTIF($A30:$I30,$L$42)+COUNTIF(D$24:D$32,$L$42)+COUNTIF($D$30:$F$32,$L$42))<>0,3,0)))","v":0},0,0,{"$f":"IF(G30=$L$42,2,IF(G30<>0,1,IF((COUNTIF($A30:$I30,$L$42)+COUNTIF(G$24:G$32,$L$42)+COUNTIF($G$30:$I$32,$L$42))<>0,3,0)))","v":0},1,3,null,{"$f":"'2'!L8","v":0},{"$f":"'2'!M8","v":0},{"$f":"'2'!N8","v":0},{"$f":"'2'!O8","v":0},{"$f":"'2'!P8","v":0},{"$f":"'2'!Q8","v":3},{"$f":"'2'!R8","v":3},{"$f":"'2'!S8","v":1},{"$f":"'2'!T8","v":0},null,{"$f":"'3'!L8","v":0},{"$f":"'3'!M8","v":0},{"$f":"'3'!N8","v":0},{"$f":"'3'!O8","v":0},{"$f":"'3'!P8","v":0},{"$f":"'3'!Q8","v":0},{"$f":"'3'!R8","v":0},{"$f":"'3'!S8","v":1},{"$f":"'3'!T8","v":3}]
[null,null,null,null,null,null,null,null,null,null,null,3,2,3,1,3,1,1,3,3,null,{"$f":"'2'!L9","v":0},{"$f":"'2'!M9","v":1},{"$f":"'2'!N9","v":0},{"$f":"'2'!O9","v":1},{"$f":"'2'!P9","v":0},{"$f":"'2'!Q9","v":1},{"$f":"'2'!R9","v":1},{"$f":"'2'!S9","v":0},{"$f":"'2'!T9","v":0},null,{"$f":"'3'!L9","v":0},{"$f":"'3'!M9","v":1},{"$f":"'3'!N9","v":0},{"$f":"'3'!O9","v":1},{"$f":"'3'!P9","v":0},{"$f":"'3'!Q9","v":1},{"$f":"'3'!R9","v":1},{"$f":"'3'!S9","v":0},{"$f":"'3'!T9","v":3}]
[null,null,null,null,null,null,null,null,null,null,null,1,3,3,0,0,1,1,0,3,null,{"$f":"'2'!L10","v":1},{"$f":"'2'!M10","v":0},{"$f":"'2'!N10","v":0},{"$f":"'2'!O10","v":0},{"$f":"'2'!P10","v":0},{"$f":"'2'!Q10","v":1},{"$f":"'2'!R10","v":1},{"$f":"'2'!S10","v":0},{"$f":"'2'!T10","v":0},null,{"$f":"'3'!L10","v":1},{"$f":"'3'!M10","v":0},{"$f":"'3'!N10","v":0},{"$f":"'3'!O10","v":0},{"$f":"'3'!P10","v":0},{"$f":"'3'!Q10","v":1},{"$f":"'3'!R10","v":1},{"$f":"'3'!S10","v":0},{"$f":"'3'!T10","v":3}]
[]
[null,null,null,null,null,null,null,null,null,null,null,4,null,null,null,null,null,null,null,null,null,5,null,null,null,null,null,null,null,null,null,6]
[null,null,null,null,null,null,null,null,null,null,null,{"$f":"'4'!L2","v":3},{"$f":"'4'!M2","v":3},{"$f":"'4'!N2","v":1},{"$f":"'4'!O2","v":1},{"$f":"'4'!P2","v":0},{"$f":"'4'!Q2","v":0},{"$f":"'4'!R2","v":0},{"$f":"'4'!S2","v":0},{"$f":"'4'!T2","v":1},null,{"$f":"'5'!L2","v":3},{"$f":"'5'!M2","v":3},{"$f":"'5'!N2","v":1},{"$f":"'5'!O2","v":2},{"$f":"'5'!P2","v":3},{"$f":"'5'!Q2","v":3},{"$f":"'5'!R2","v":3},{"$f":"'5'!S2","v":3},{"$f":"'5'!T2","v":1},null,{"$f":"'6'!L2","v":3},{"$f":"'6'!M2","v":3},{"$f":"'6'!N2","v":1},{"$f":"'6'!O2","v":1},{"$f":"'6'!P2","v":3},{"$f":"'6'!Q2","v":3},{"$f":"'6'!R2","v":3},{"$f":"'6'!S2","v":3},{"$f":"'6'!T2","v":2}]
[null,null,null,null,null,null,null,null,null,null,null,{"$f":"'4'!L3","v":3},{"$f":"'4'!M3","v":3},{"$f":"'4'!N3","v":2},{"$f":"'4'!O3","v":1},{"$f":"'4'!P3","v":3},{"$f":"'4'!Q3","v":1},{"$f":"'4'!R3","v":3},{"$f":"'4'!S3","v":1},{"$f":"'4'!T3","v":3},null,{"$f":"'5'!L3","v":3},{"$f":"'5'!M3","v":0},{"$f":"'5'!N3","v":1},{"$f":"'5'!O3","v":1},{"$f":"'5'!P3","v":3},{"$f":"'5'!Q3","v":1},{"$f":"'5'!R3","v":3},{"$f":"'5'!S3","v":1},{"$f":"'5'!T3","v":0},null,{"$f":"'6'!L3","v":3},{"$f":"'6'!M3","v":3},{"$f":"'6'!N3","v":1},{"$f":"'6'!O3","v":1},{"$f":"'6'!P3","v":0},{"$f":"'6'!Q3","v":1},{"$f":"'6'!R3","v":3},{"$f":"'6'!S3","v":1},{"$f":"'6'!T3","v":3}]
[null,null,null,null,null,null,null,null,null,null,null,{"$f":"'4'!L4","v":3},{"$f":"'4'!M4","v":1},{"$f":"'4'!N4","v":3},{"$f":"'4'!O4","v":0},{"$f":"'4'!P4","v":0},{"$f":"'4'!Q4","v":0},{"$f":"'4'!R4","v":0},{"$f":"'4'!S4","v":0},{"$f":"'4'!T4","v":0},null,{"$f":"'5'!L4","v":3},{"$f":"'5'!M4","v":1},{"$f":"'5'!N4","v":0},{"$f":"'5'!O4","v":3},{"$f":"'5'!P4","v":3},{"$f":"'5'!Q4","v":3},{"$f":"'5'!R4","v":3},{"$f":"'5'!S4","v":0},{"$f":"'5'!T4","v":0},null,{"$f":"'6'!L4","v":3},{"$f":"'6'!M4","v":2},{"$f":"'6'!N4","v":3},{"$f":"'6'!O4","v":3},{"$f":"'6'!P4","v":3},{"$f":"'6'!Q4","v":3},{"$f":"'6'!R4","v":3},{"$f":"'6'!S4","v":3},{"$f":"'6'!T4","v":3}]
[null,null,null,null,null,null,null,null,null,null,null,{"$f":"'4'!L5","v":1},{"$f":"'4'!M5","v":0},{"$f":"'4'!N5","v":3},{"$f":"'4'!O5","v":0},{"$f":"'4'!P5","v":0},{"$f":"'4'!Q5","v":1},{"$f":"'4'!R5","v":0},{"$f":"'4'!S5","v":0},{"$f":"'4'!T5","v":1},null,{"$f":"'5'!L5","v":1},{"$f":"'5'!M5","v":3},{"$f":"'5'!N5","v":3},{"$f":"'5'!O5","v":3},{"$f":"'5'!P5","v":0},{"$f":"'5'!Q5","v":1},{"$f":"'5'!R5","v":3},{"$f":"'5'!S5","v":0},{"$f":"'5'!T5","v":1},null,{"$f":"'6'!L5","v":1},{"$f":"'6'!M5","v":3},{"$f":"'6'!N5","v":3},{"$f":"'6'!O5","v":0},{"$f":"'6'!P5","v":0},{"$f":"'6'!Q5","v":1},{"$f":"'6'!R5","v":3},{"$f":"'6'!S5","v":0},{"$f":"'6'!T5","v":1}]
[null,null,null,null,null,null,null,null,null,null,null,{"$f":"'4'!L6","v":3},{"$f":"'4'!M6","v":0},{"$f":"'4'!N6","v":1},{"$f":"'4'!O6","v":0},{"$f":"'4'!P6","v":1},{"$f":"'4'!Q6","v":0},{"$f":"'4'!R6","v":1},{"$f":"'4'!S6","v":0},{"$f":"'4'!T6","v":0},null,{"$f":"'5'!L6","v":3},{"$f":"'5'!M6","v":3},{"$f":"'5'!N6","v":1},{"$f":"'5'!O6","v":3},{"$f":"'5'!P6","v":1},{"$f":"'5'!Q6","v":0},{"$f":"'5'!R6","v":1},{"$f":"'5'!S6","v":0},{"$f":"'5'!T6","v":0},null,{"$f":"'6'!L6","v":3},{"$f":"'6'!M6","v":3},{"$f":"'6'!N6","v":2},{"$f":"'6'!O6","v":3},{"$f":"'6'!P6","v":1},{"$f":"'6'!Q6","v":3},{"$f":"'6'!R6","v":1},{"$f":"'6'!S6","v":3},{"$f":"'6'!T6","v":3}]
[null,null,null,null,null,null,null,null,null,null,null,{"$f":"'4'!L7","v":1},{"$f":"'4'!M7","v":0},{"$f":"'4'!N7","v":3},{"$f":"'4'!O7","v":1},{"$f":"'4'!P7","v":0},{"$f":"'4'!Q7","v":0},{"$f":"'4'!R7","v":0},{"$f":"'4'!S7","v":0},{"$f":"'4'!T7","v":1},null,{"$f":"'5'!L7","v":2},{"$f":"'5'!M7","v":3},{"$f":"'5'!N7","v":3},{"$f":"'5'!O7","v":1},{"$f":"'5'!P7","v":3},{"$f":"'5'!Q7","v":3},{"$f":"'5'!R7","v":3},{"$f":"'5'!S7","v":3},{"$f":"'5'!T7","v":1},null,{"$f":"'6'!L7","v":1},{"$f":"'6'!M7","v":3},{"$f":"'6'!N7","v":3},{"$f":"'6'!O7","v":1},{"$f":"'6'!P7","v":0},{"$f":"'6'!Q7","v":0},{"$f":"'6'!R7","v":3},{"$f":"'6'!S7","v":0},{"$f":"'6'!T7","v":1}]
[null,null,null,null,null,null,null,null,null,null,null,{"$f":"'4'!L8","v":3},{"$f":"'4'!M8","v":3},{"$f":"'4'!N8","v":3},{"$f":"'4'!O8","v":0},{"$f":"'4'!P8","v":0},{"$f":"'4'!Q8","v":0},{"$f":"'4'!R8","v":0},{"$f":"'4'!S8","v":1},{"$f":"'4'!T8","v":0},null,{"$f":"'5'!L8","v":3},{"$f":"'5'!M8","v":0},{"$f":"'5'!N8","v":0},{"$f":"'5'!O8","v":3},{"$f":"'5'!P8","v":0},{"$f":"'5'!Q8","v":0},{"$f":"'5'!R8","v":3},{"$f":"'5'!S8","v":1},{"$f":"'5'!T8","v":3},null,{"$f":"'6'!L8","v":0},{"$f":"'6'!M8","v":3},{"$f":"'6'!N8","v":3},{"$f":"'6'!O8","v":0},{"$f":"'6'!P8","v":0},{"$f":"'6'!Q8","v":0},{"$f":"'6'!R8","v":3},{"$f":"'6'!S8","v":1},{"$f":"'6'!T8","v":3}]
[null,null,null,null,null,null,null,null,null,null,null,{"$f":"'4'!L9","v":3},{"$f":"'4'!M9","v":1},{"$f":"'4'!N9","v":3},{"$f":"'4'!O9","v":1},{"$f":"'4'!P9","v":0},{"$f":"'4'!Q9","v":1},{"$f":"'4'!R9","v":1},{"$f":"'4'!S9","v":0},{"$f":"'4'!T9","v":0},null,{"$f":"'5'!L9","v":3},{"$f":"'5'!M9","v":1},{"$f":"'5'!N9","v":3},{"$f":"'5'!O9","v":1},{"$f":"'5'!P9","v":3},{"$f":"'5'!Q9","v":1},{"$f":"'5'!R9","v":2},{"$f":"'5'!S9","v":3},{"$f":"'5'!T9","v":3},null,{"$f":"'6'!L9","v":0},{"$f":"'6'!M9","v":1},{"$f":"'6'!N9","v":3},{"$f":"'6'!O9","v":1},{"$f":"'6'!P9","v":0},{"$f":"'6'!Q9","v":1},{"$f":"'6'!R9","v":1},{"$f":"'6'!S9","v":3},{"$f":"'6'!T9","v":3}]
[null,null,null,null,null,null,null,null,null,null,null,{"$f":"'4'!L10","v":2},{"$f":"'4'!M10","v":3},{"$f":"'4'!N10","v":3},{"$f":"'4'!O10","v":3},{"$f":"'4'!P10","v":3},{"$f":"'4'!Q10","v":1},{"$f":"'4'!R10","v":1},{"$f":"'4'!S10","v":3},{"$f":"'4'!T10","v":3},null,{"$f":"'5'!L10","v":1},{"$f":"'5'!M10","v":0},{"$f":"'5'!N10","v":0},{"$f":"'5'!O10","v":3},{"$f":"'5'!P10","v":0},{"$f":"'5'!Q10","v":1},{"$f":"'5'!R10","v":1},{"$f":"'5'!S10","v":3},{"$f":"'5'!T10","v":3},null,{"$f":"'6'!L10","v":1},{"$f":"'6'!M10","v":3},{"$f":"'6'!N10","v":3},{"$f":"'6'!O10","v":3},{"$f":"'6'!P10","v":3},{"$f":"'6'!Q10","v":1},{"$f":"'6'!R10","v":2},{"$f":"'6'!S10","v":3},{"$f":"'6'!T10","v":3}]
[]
[null,null,null,null,null,null,null,null,null,null,null,7,null,null,null,null,null,null,null,null,null,8,null,null,null,null,null,null,null,null,null,9]
[null,null,null,null,null,null,null,null,null,null,null,{"$f":"'7'!L2","v":0},{"$f":"'7'!M2","v":0},{"$f":"'7'!N2","v":1},{"$f":"'7'!O2","v":1},{"$f":"'7'!P2","v":0},{"$f":"'7'!Q2","v":3},{"$f":"'7'!R2","v":0},{"$f":"'7'!S2","v":3},{"$f":"'7'!T2","v":1},null,{"$f":"'8'!L2","v":0},{"$f":"'8'!M2","v":0},{"$f":"'8'!N2","v":1},{"$f":"'8'!O2","v":1},{"$f":"'8'!P2","v":0},{"$f":"'8'!Q2","v":3},{"$f":"'8'!R2","v":3},{"$f":"'8'!S2","v":3},{"$f":"'8'!T2","v":1},null,{"$f":"'9'!L2","v":3},{"$f":"'9'!M2","v":3},{"$f":"'9'!N2","v":2},{"$f":"'9'!O2","v":1},{"$f":"'9'!P2","v":3},{"$f":"'9'!Q2","v":3},{"$f":"'9'!R2","v":3},{"$f":"'9'!S2","v":3},{"$f":"'9'!T2","v":1}]
[null,null,null,null,null,null,null,null,null,null,null,{"$f":"'7'!L3","v":0},{"$f":"'7'!M3","v":0},{"$f":"'7'!N3","v":1},{"$f":"'7'!O3","v":1},{"$f":"'7'!P3","v":0},{"$f":"'7'!Q3","v":1},{"$f":"'7'!R3","v":0},{"$f":"'7'!S3","v":1},{"$f":"'7'!T3","v":0},null,{"$f":"'8'!L3","v":3},{"$f":"'8'!M3","v":3},{"$f":"'8'!N3","v":1},{"$f":"'8'!O3","v":1},{"$f":"'8'!P3","v":3},{"$f":"'8'!Q3","v":1},{"$f":"'8'!R3","v":3},{"$f":"'8'!S3","v":2},{"$f":"'8'!T3","v":3},null,{"$f":"'9'!L3","v":3},{"$f":"'9'!M3","v":3},{"$f":"'9'!N3","v":1},{"$f":"'9'!O3","v":2},{"$f":"'9'!P3","v":3},{"$f":"'9'!Q3","v":1},{"$f":"'9'!R3","v":3},{"$f":"'9'!S3","v":1},{"$f":"'9'!T3","v":3}]
[null,null,null,null,null,null,null,null,null,null,null,{"$f":"'7'!L4","v":0},{"$f":"'7'!M4","v":1},{"$f":"'7'!N4","v":0},{"$f":"'7'!O4","v":3},{"$f":"'7'!P4","v":0},{"$f":"'7'!Q4","v":3},{"$f":"'7'!R4","v":0},{"$f":"'7'!S4","v":3},{"$f":"'7'!T4","v":0},null,{"$f":"'8'!L4","v":0},{"$f":"'8'!M4","v":1},{"$f":"'8'!N4","v":0},{"$f":"'8'!O4","v":3},{"$f":"'8'!P4","v":0},{"$f":"'8'!Q4","v":3},{"$f":"'8'!R4","v":3},{"$f":"'8'!S4","v":3},{"$f":"'8'!T4","v":3},null,{"$f":"'9'!L4","v":3},{"$f":"'9'!M4","v":1},{"$f":"'9'!N4","v":3},{"$f":"'9'!O4","v":3},{"$f":"'9'!P4","v":3},{"$f":"'9'!Q4","v":3},{"$f":"'9'!R4","v":0},{"$f":"'9'!S4","v":0},{"$f":"'9'!T4","v":0}]
[null,null,null,null,null,null,null,null,null,null,null,{"$f":"'7'!L5","v":1},{"$f":"'7'!M5","v":0},{"$f":"'7'!N5","v":0},{"$f":"'7'!O5","v":3},{"$f":"'7'!P5","v":3},{"$f":"'7'!Q5","v":1},{"$f":"'7'!R5","v":0},{"$f":"'7'!S5","v":3},{"$f":"'7'!T5","v":1},null,{"$f":"'8'!L5","v":1},{"$f":"'8'!M5","v":3},{"$f":"'8'!N5","v":3},{"$f":"'8'!O5","v":3},{"$f":"'8'!P5","v":3},{"$f":"'8'!Q5","v":2},{"$f":"'8'!R5","v":3},{"$f":"'8'!S5","v":3},{"$f":"'8'!T5","v":1},null,{"$f":"'9'!L5","v":1},{"$f":"'9'!M5","v":0},{"$f":"'9'!N5","v":3},{"$f":"'9'!O5","v":3},{"$f":"'9'!P5","v":3},{"$f":"'9'!Q5","v":1},{"$f":"'9'!R5","v":0},{"$f":"'9'!S5","v":0},{"$f":"'9'!T5","v":1}]
[null,null,null,null,null,null,null,null,null,null,null,{"$f":"'7'!L6","v":0},{"$f":"'7'!M6","v":0},{"$f":"'7'!N6","v":1},{"$f":"'7'!O6","v":3},{"$f":"'7'!P6","v":1},{"$f":"'7'!Q6","v":3},{"$f":"'7'!R6","v":1},{"$f":"'7'!S6","v":3},{"$f":"'7'!T6","v":0},null,{"$f":"'8'!L6","v":0},{"$f":"'8'!M6","v":0},{"$f":"'8'!N6","v":1},{"$f":"'8'!O6","v":3},{"$f":"'8'!P6","v":1},{"$f":"'8'!Q6","v":3},{"$f":"'8'!R6","v":1},{"$f":"'8'!S6","v":3},{"$f":"'8'!T6","v":0},null,{"$f":"'9'!L6","v":3},{"$f":"'9'!M6","v":3},{"$f":"'9'!N6","v":1},{"$f":"'9'!O6","v":3},{"$f":"'9'!P6","v":2},{"$f":"'9'!Q6","v":3},{"$f":"'9'!R6","v":1},{"$f":"'9'!S6","v":3},{"$f":"'9'!T6","v":3}]
[null,null,null,null,null,null,null,null,null,null,null,{"$f":"'7'!L7","v":1},{"$f":"'7'!M7","v":3},{"$f":"'7'!N7","v":3},{"$f":"'7'!O7","v":2},{"$f":"'7'!P7","v":3},{"$f":"'7'!Q7","v":3},{"$f":"'7'!R7","v":3},{"$f":"'7'!S7","v":3},{"$f":"'7'!T7","v":1},null,{"$f":"'8'!L7","v":1},{"$f":"'8'!M7","v":0},{"$f":"'8'!N7","v":0},{"$f":"'8'!O7","v":1},{"$f":"'8'!P7","v":3},{"$f":"'8'!Q7","v":3},{"$f":"'8'!R7","v":0},{"$f":"'8'!S7","v":3},{"$f":"'8'!T7","v":1},null,{"$f":"'9'!L7","v":1},{"$f":"'9'!M7","v":0},{"$f":"'9'!N7","v":3},{"$f":"'9'!O7","v":1},{"$f":"'9'!P7","v":3},{"$f":"'9'!Q7","v":3},{"$f":"'9'!R7","v":0},{"$f":"'9'!S7","v":0},{"$f":"'9'!T7","v":1}]
[null,null,null,null,null,null,null,null,null,null,null,{"$f":"'7'!L8","v":3},{"$f":"'7'!M8","v":3},{"$f":"'7'!N8","v":3},{"$f":"'7'!O8","v":3},{"$f":"'7'!P8","v":3},{"$f":"'7'!Q8","v":3},{"$f":"'7'!R8","v":3},{"$f":"'7'!S8","v":2},{"$f":"'7'!T8","v":3},null,{"$f":"'8'!L8","v":0},{"$f":"'8'!M8","v":0},{"$f":"'8'!N8","v":0},{"$f":"'8'!O8","v":3},{"$f":"'8'!P8","v":3},{"$f":"'8'!Q8","v":3},{"$f":"'8'!R8","v":0},{"$f":"'8'!S8","v":1},{"$f":"'8'!T8","v":0},null,{"$f":"'9'!L8","v":0},{"$f":"'9'!M8","v":0},{"$f":"'9'!N8","v":3},{"$f":"'9'!O8","v":3},{"$f":"'9'!P8","v":3},{"$f":"'9'!Q8","v":3},{"$f":"'9'!R8","v":0},{"$f":"'9'!S8","v":1},{"$f":"'9'!T8","v":0}]
[null,null,null,null,null,null,null,null,null,null,null,{"$f":"'7'!L9","v":0},{"$f":"'7'!M9","v":1},{"$f":"'7'!N9","v":0},{"$f":"'7'!O9","v":1},{"$f":"'7'!P9","v":3},{"$f":"'7'!Q9","v":1},{"$f":"'7'!R9","v":1},{"$f":"'7'!S9","v":3},{"$f":"'7'!T9","v":3},null,{"$f":"'8'!L9","v":3},{"$f":"'8'!M9","v":1},{"$f":"'8'!N9","v":3},{"$f":"'8'!O9","v":2},{"$f":"'8'!P9","v":3},{"$f":"'8'!Q9","v":1},{"$f":"'8'!R9","v":1},{"$f":"'8'!S9","v":3},{"$f":"'8'!T9","v":3},null,{"$f":"'9'!L9","v":3},{"$f":"'9'!M9","v":1},{"$f":"'9'!N9","v":3},{"$f":"'9'!O9","v":1},{"$f":"'9'!P9","v":3},{"$f":"'9'!Q9","v":2},{"$f":"'9'!R9","v":1},{"$f":"'9'!S9","v":3},{"$f":"'9'!T9","v":3}]
[null,null,null,null,null,null,null,null,null,null,null,{"$f":"'7'!L10","v":1},{"$f":"'7'!M10","v":3},{"$f":"'7'!N10","v":3},{"$f":"'7'!O10","v":3},{"$f":"'7'!P10","v":3},{"$f":"'7'!Q10","v":2},{"$f":"'7'!R10","v":1},{"$f":"'7'!S10","v":3},{"$f":"'7'!T10","v":3},null,{"$f":"'8'!L10","v":1},{"$f":"'8'!M10","v":0},{"$f":"'8'!N10","v":0},{"$f":"'8'!O10","v":3},{"$f":"'8'!P10","v":3},{"$f":"'8'!Q10","v":1},{"$f":"'8'!R10","v":1},{"$f":"'8'!S10","v":3},{"$f":"'8'!T10","v":0},null,{"$f":"'9'!L10","v":1},{"$f":"'9'!M10","v":0},{"$f":"'9'!N10","v":3},{"$f":"'9'!O10","v":3},{"$f":"'9'!P10","v":3},{"$f":"'9'!Q10","v":1},{"$f":"'9'!R10","v":1},{"$f":"'9'!S10","v":0},{"$f":"'9'!T10","v":0}]

{"sheet":"1","index":1,"n_rows":32,"n_cols":30,"rows_kept":32,"cut":false,"hidden":false,"merged":[]}
[null,null,null,null,null,null,null,null,null,null,null,1]
[null,null,null,null,null,null,null,null,null,null,null,{"$f":"IF(A24=$L$1,2,IF(A24<>0,1,IF((COUNTIF($A24:$I24,$L$1)+COUNTIF(A$24:A$32,$L$1)+COUNTIF($A$24:$C$26,$L$1))<>0,3,0)))","v":3},3,1,{"$f":"IF(D24=$L$1,2,IF(D24<>0,1,IF((COUNTIF($A24:$I24,$L$1)+COUNTIF(D$24:D$32,$L$1)+COUNTIF($D$24:$F$26,$L$1))<>0,3,0)))","v":1},0,0,{"$f":"IF(G24=$L$1,2,IF(G24<>0,1,IF((COUNTIF($A24:$I24,$L$1)+COUNTIF(G$24:G$32,$L$1)+COUNTIF($G$24:$I$26,$L$1))<>0,3,0)))","v":0},0,1,null,{"$f":"IF(L2>0,1,0)","v":1},{"$f":"IF(M2>0,1,0)","v":1},{"$f":"IF(N2>0,1,0)","v":1},{"$f":"IF(O2>0,1,0)","v":1},{"$f":"IF(P2>0,1,0)","v":0},{"$f":"IF(Q2>0,1,0)","v":0},{"$f":"IF(R2>0,1,0)","v":0},{"$f":"IF(S2>0,1,0)","v":0},{"$f":"IF(T2>0,1,0)","v":1}]
[null,null,null,null,null,null,null,null,null,null,null,3,3,1,1,0,1,0,1,3,null,1,1,1,1,0,1,0,1,1]
[null,null,null,null,null,null,null,null,null,null,null,3,1,0,0,0,0,0,0,3,null,1,1,0,0,0,0,0,0,1]
[null,null,null,null,null,null,null,null,null,null,null,{"$f":"IF(A27=$L$1,2,IF(A27<>0,1,IF((COUNTIF($A27:$I27,$L$1)+COUNTIF(A$24:A$32,$L$1)+COUNTIF($A$27:$C$29,$L$1))<>0,3,0)))","v":2},3,3,{"$f":"IF(D27=$L$1,2,IF(D27<>0,1,IF((COUNTIF($A27:$I27,$L$1)+COUNTIF(D$24:D$32,$L$1)+COUNTIF($D$27:$F$29,$L$1))<>0,3,0)))","v":3},3,1,{"$f":"IF(G27=$L$1,2,IF(G27<>0,1,IF((COUNTIF($A27:$I27,$L$1)+COUNTIF(G$24:G$32,$L$1)+COUNTIF($G$27:$I$29,$L$1))<>0,3,0)))","v":3},3,1,null,1,1,1,1,1,1,1,1,1]
[null,null,null,null,null,null,null,null,null,null,null,3,3,1,0,1,0,1,3,3,null,1,1,1,0,1,0,1,1,1]
[null,null,null,null,null,null,null,null,null,null,null,1,3,3,1,3,3,3,3,2,null,1,1,1,1,1,1,1,1,1]
[null,null,null,null,null,null,null,null,null,null,null,{"$f":"IF(A30=$L$1,2,IF(A30<>0,1,IF((COUNTIF($A30:$I30,$L$1)+COUNTIF(A$24:A$32,$L$1)+COUNTIF($A$30:$C$32,$L$1))<>0,3,0)))","v":3},3,3,{"$f":"IF(D30=$L$1,2,IF(D30<>0,1,IF((COUNTIF($A30:$I30,$L$1)+COUNTIF(D$24:D$32,$L$1)+COUNTIF($D$30:$F$32,$L$1))<>0,3,0)))","v":0},0,0,{"$f":"IF(G30=$L$1,2,IF(G30<>0,1,IF((COUNTIF($A30:$I30,$L$1)+COUNTIF(G$24:G$32,$L$1)+COUNTIF($G$30:$I$32,$L$1))<>0,3,0)))","v":0},1,3,null,1,1,1,0,0,0,0,1,1]
[null,null,null,null,null,null,null,null,null,null,null,3,2,3,1,3,1,1,3,3,null,1,1,1,1,1,1,1,1,1]
[null,null,null,null,null,null,null,null,null,null,null,1,3,3,0,0,1,1,0,3,null,1,1,1,0,0,1,1,0,1]
[]
[]
[null,null,null,null,null,null,null,null,null,null,null,null,null,null,null,null,null,null,null,null,null,{"$f":"IF(L2=0,IF(OR(COUNTIF($L2:$T2,0)=1,COUNTIF(L$2:L$10,0)=1,COUNTIF($L$2:$N$4,0)=1),$L$1,\"\"),\"\")","v":""},"","",{"$f":"IF(O2=0,IF(OR(COUNTIF($L2:$T2,0)=1,COUNTIF(O$2:O$10,0)=1,COUNTIF($O$2:$Q$4,0)=1),$L$1,\"\"),\"\")","v":""},"","",{"$f":"IF(R2=0,IF(OR(COUNTIF($L2:$T2,0)=1,COUNTIF(R$2:R$10,0)=1,COUNTIF($R$2:$T$4,0)=1),$L$1,\"\"),\"\")","v":""},"",""]
[null,null,null,null,null,null,null,null,null,null,null,null,null,null,null,null,null,null,null,null,null,"","","","","","","","",""]
[null,null,null,null,null,null,null,null,null,null,null,null,null,null,null,null,null,null,null,null,null,"","",1,"","","","","",""]
[null,null,null,null,null,null,null,null,null,null,null,null,null,null,null,null,null,null,null,null,null,{"$f":"IF(L5=0,IF(OR(COUNTIF($L5:$T5,0)=1,COUNTIF(L$2:L$10,0)=1,COUNTIF($L$5:$N$7,0)=1),$L$1,\"\"),\"\")","v":""},"","",{"$f":"IF(O5=0,IF(OR(COUNTIF($L5:$T5,0)=1,COUNTIF(O$2:O$10,0)=1,COUNTIF($O$5:$Q$7,0)=1),$L$1,\"\"),\"\")","v":""},"","",{"$f":"IF(R5=0,IF(OR(COUNTIF($L5:$T5,0)=1,COUNTIF(R$2:R$10,0)=1,COUNTIF($R$5:$T$7,0)=1),$L$1,\"\"),\"\")","v":""},"",""]
[null,null,null,null,null,null,null,null,null,null,null,null,null,null,null,null,null,null,null,null,null,"","","","","","","","",""]
[null,null,null,null,null,null,null,null,null,null,null,null,null,null,null,null,null,null,null,null,null,"","","","","","","","",""]
[null,null,null,null,null,null,null,null,null,null,null,null,null,null,null,null,null,null,null,null,null,{"$f":"IF(L8=0,IF(OR(COUNTIF($L8:$T8,0)=1,COUNTIF(L$2:L$10,0)=1,COUNTIF($L$4:$N$8,10)=1),$L$1,\"\"),\"\")","v":""},"","",{"$f":"IF(O8=0,IF(OR(COUNTIF($L8:$T8,0)=1,COUNTIF(O$2:O$10,0)=1,COUNTIF($O$8:$Q$10,0)=1),$L$1,\"\"),\"\")","v":""},"","",{"$f":"IF(R8=0,IF(OR(COUNTIF($L8:$T8,0)=1,COUNTIF(R$2:R$10,0)=1,COUNTIF($R$8:$T$10,0)=1),$L$1,\"\"),\"\")","v":""},"",""]
[null,null,null,null,null,null,null,null,null,null,null,null,null,null,null,null,null,null,null,null,null,"","","","","","","","",""]
[null,null,null,null,null,null,null,null,null,null,null,null,null,null,null,null,null,null,null,null,null,"","","","","","","","",""]
[]
[]
[{"$f":"Overall!A24","v":0},{"$f":"Overall!B24","v":0},{"$f":"Overall!C24","v":9},{"$f":"Overall!D24","v":5},{"$f":"Overall!E24","v":0},{"$f":"Overall!F24","v":0},{"$f":"Overall!G24","v":0},{"$f":"Overall!H24","v":0},{"$f":"Overall!I24","v":6}]
[{"$f":"Overall!A25","v":0},{"$f":"Overall!B25","v":0},{"$f":"Overall!C25","v":4},{"$f":"Overall!D25","v":9},{"$f":"Overall!E25","v":0},{"$f":"Overall!F25","v":2},{"$f":"Overall!G25","v":0},{"$f":"Overall!H25","v":8},{"$f":"Overall!I25","v":0}]
[{"$f":"Overall!A26","v":0},{"$f":"Overall!B26","v":6},{"$f":"Overall!C26","v":0},{"$f":"Overall!D26","v":0},{"$f":"Overall!E26","v":0},{"$f":"Overall!F26","v":0},{"$f":"Overall!G26","v":0},{"$f":"Overall!H26","v":0},{"$f":"Overall!I26","v":0}]
[{"$f":"Overall!A27","v":1},{"$f":"Overall!B27","v":0},{"$f":"Overall!C27","v":0},{"$f":"Overall!D27","v":0},{"$f":"Overall!E27","v":0},{"$f":"Overall!F27","v":8},{"$f":"Overall!G27","v":0},{"$f":"Overall!H27","v":0},{"$f":"Overall!I27","v":3}]
[{"$f":"Overall!A28","v":0},{"$f":"Overall!B28","v":0},{"$f":"Overall!C28","v":6},{"$f":"Overall!D28","v":0},{"$f":"Overall!E28","v":9},{"$f":"Overall!F28","v":0},{"$f":"Overall!G28","v":2},{"$f":"Overall!H28","v":0},{"$f":"Overall!I28","v":0}]
[{"$f":"Overall!A29","v":5},{"$f":"Overall!B29","v":0},{"$f":"Overall!C29","v":0},{"$f":"Overall!D29","v":7},{"$f":"Overall!E29","v":0},{"$f":"Overall!F29","v":0},{"$f":"Overall!G29","v":0},{"$f":"Overall!H29","v":0},{"$f":"Overall!I29","v":1}]
[{"$f":"Overall!A30","v":0},{"$f":"Overall!B30","v":0},{"$f":"Overall!C30","v":0},{"$f":"Overall!D30","v":0},{"$f":"Overall!E30","v":0},{"$f":"Overall!F30","v":0},{"$f":"Overall!G30","v":0},{"$f":"Overall!H30","v":7},{"$f":"Overall!I30","v":0}]
[{"$f":"Overall!A31","v":0},{"$f":"Overall!B31","v":1},{"$f":"Overall!C31","v":0},{"$f":"Overall!D31","v":8},{"$f":"Overall!E31","v":0},{"$f":"Overall!F31","v":9},{"$f":"Overall!G31","v":5},{"$f":"Overall!H31","v":0},{"$f":"Overall!I31","v":0}]
[{"$f":"Overall!A32","v":4},{"$f":"Overall!B32","v":0},{"$f":"Overall!C32","v":0},{"$f":"Overall!D32","v":0},{"$f":"Overall!E32","v":0},{"$f":"Overall!F32","v":7},{"$f":"Overall!G32","v":6},{"$f":"Overall!H32","v":0},{"$f":"Overall!I32","v":0}]

{"sheet":"2","index":2,"n_rows":32,"n_cols":30,"rows_kept":32,"cut":false,"hidden":false,"merged":[]}
[null,null,null,null,null,null,null,null,null,null,null,2]
[null,null,null,null,null,null,null,null,null,null,null,{"$f":"IF(A24=$L$1,2,IF(A24<>0,1,IF((COUNTIF($A24:$I24,$L$1)+COUNTIF(A$24:A$32,$L$1)+COUNTIF($A$24:$C$26,$L$1))<>0,3,0)))","v":0},0,1,{"$f":"IF(D24=$L$1,2,IF(D24<>0,1,IF((COUNTIF($A24:$I24,$L$1)+COUNTIF(D$24:D$32,$L$1)+COUNTIF($D$24:$F$26,$L$1))<>0,3,0)))","v":1},3,3,{"$f":"IF(G24=$L$1,2,IF(G24<>0,1,IF((COUNTIF($A24:$I24,$L$1)+COUNTIF(G$24:G$32,$L$1)+COUNTIF($G$24:$I$26,$L$1))<>0,3,0)))","v":3},0,1,null,{"$f":"IF(L2>0,1,0)","v":0},{"$f":"IF(M2>0,1,0)","v":0},{"$f":"IF(N2>0,1,0)","v":1},{"$f":"IF(O2>0,1,0)","v":1},{"$f":"IF(P2>0,1,0)","v":1},{"$f":"IF(Q2>0,1,0)","v":1},{"$f":"IF(R2>0,1,0)","v":1},{"$f":"IF(S2>0,1,0)","v":0},{"$f":"IF(T2>0,1,0)","v":1}]
[null,null,null,null,null,null,null,null,null,null,null,3,3,1,1,3,2,3,1,3,null,1,1,1,1,1,1,1,1,1]
[null,null,null,null,null,null,null,null,null,null,null,0,1,0,3,3,3,3,0,0,null,0,1,0,1,1,1,1,0,0]
[null,null,null,null,null,null,null,null,null,null,null,{"$f":"IF(A27=$L$1,2,IF(A27<>0,1,IF((COUNTIF($A27:$I27,$L$1)+COUNTIF(A$24:A$32,$L$1)+COUNTIF($A$27:$C$29,$L$1))<>0,3,0)))","v":1},0,0,{"$f":"IF(D27=$L$1,2,IF(D27<>0,1,IF((COUNTIF($A27:$I27,$L$1)+COUNTIF(D$24:D$32,$L$1)+COUNTIF($D$27:$F$29,$L$1))<>0,3,0)))","v":0},0,1,{"$f":"IF(G27=$L$1,2,IF(G27<>0,1,IF((COUNTIF($A27:$I27,$L$1)+COUNTIF(G$24:G$32,$L$1)+COUNTIF($G$27:$I$29,$L$1))<>0,3,0)))","v":3},3,1,null,1,0,0,0,0,1,1,1,1]
[null,null,null,null,null,null,null,null,null,null,null,3,3,1,3,1,3,2,3,3,null,1,1,1,1,1,1,1,1,1]
[null,null,null,null,null,null,null,null,null,null,null,1,0,0,1,0,3,3,3,1,null,1,0,0,1,0,1,1,1,1]
[null,null,null,null,null,null,null,null,null,null,null,{"$f":"IF(A30=$L$1,2,IF(A30<>0,1,IF((COUNTIF($A30:$I30,$L$1)+COUNTIF(A$24:A$32,$L$1)+COUNTIF($A$30:$C$32,$L$1))<>0,3,0)))","v":0},0,0,{"$f":"IF(D30=$L$1,2,IF(D30<>0,1,IF((COUNTIF($A30:$I30,$L$1)+COUNTIF(D$24:D$32,$L$1)+COUNTIF($D$30:$F$32,$L$1))<>0,3,0)))","v":0},0,3,{"$f":"IF(G30=$L$1,2,IF(G30<>0,1,IF((COUNTIF($A30:$I30,$L$1)+COUNTIF(G$24:G$32,$L$1)+COUNTIF($G$30:$I$32,$L$1))<>0,3,0)))","v":3},1,0,null,0,0,0,0,0,1,1,1,0]
[null,null,null,null,null,null,null,null,null,null,null,0,1,0,1,0,1,1,0,0,null,0,1,0,1,0,1,1,0,0]
[null,null,null,null,null,null,null,null,null,null,null,1,0,0,0,0,1,1,0,0,null,1,0,0,0,0,1,1,0,0]
[]
[]
[null,null,null,null,null,null,null,null,null,null,null,null,null,null,null,null,null,null,null,null,null,{"$f":"IF(L2=0,IF(OR(COUNTIF($L2:$T2,0)=1,COUNTIF(L$2:L$10,0)=1,COUNTIF($L$2:$N$4,0)=1),$L$1,\"\"),\"\")","v":""},"","",{"$f":"IF(O2=0,IF(OR(COUNTIF($L2:$T2,0)=1,COUNTIF(O$2:O$10,0)=1,COUNTIF($O$2:$Q$4,0)=1),$L$1,\"\"),\"\")","v":""},"","",{"$f":"IF(R2=0,IF(OR(COUNTIF($L2:$T2,0)=1,COUNTIF(R$2:R$10,0)=1,COUNTIF($R$2:$T$4,0)=1),$L$1,\"\"),\"\")","v":""},"",""]
[null,null,null,null,null,null,null,null,null,null,null,null,null,null,null,null,null,null,null,null,null,"","","","","","","","",""]
[null,null,null,null,null,null,null,null,null,null,null,null,null,null,null,null,null,null,null,null,null,"","","","","","","","",""]
[null,null,null,null,null,null,null,null,null,null,null,null,null,null,null,null,null,null,null,null,null,{"$f":"IF(L5=0,IF(OR(COUNTIF($L5:$T5,0)=1,COUNTIF(L$2:L$10,0)=1,COUNTIF($L$5:$N$7,0)=1),$L$1,\"\"),\"\")","v":""},"","",{"$f":"IF(O5=0,IF(OR(COUNTIF($L5:$T5,0)=1,COUNTIF(O$2:O$10,0)=1,COUNTIF($O$5:$Q$7,0)=1),$L$1,\"\"),\"\")","v":""},"","",{"$f":"IF(R5=0,IF(OR(COUNTIF($L5:$T5,0)=1,COUNTIF(R$2:R$10,0)=1,COUNTIF($R$5:$T$7,0)=1),$L$1,\"\"),\"\")","v":""},"",""]
[null,null,null,null,null,null,null,null,null,null,null,null,null,null,null,null,null,null,null,null,null,"","","","","","","","",""]
[null,null,null,null,null,null,null,null,null,null,null,null,null,null,null,null,null,null,null,null,null,"","","","","","","","",""]
[null,null,null,null,null,null,null,null,null,null,null,null,null,null,null,null,null,null,null,null,null,{"$f":"IF(L8=0,IF(OR(COUNTIF($L8:$T8,0)=1,COUNTIF(L$2:L$10,0)=1,COUNTIF($L$4:$N$8,10)=1),$L$1,\"\"),\"\")","v":""},"","",{"$f":"IF(O8=0,IF(OR(COUNTIF($L8:$T8,0)=1,COUNTIF(O$2:O$10,0)=1,COUNTIF($O$8:$Q$10,0)=1),$L$1,\"\"),\"\")","v":""},"","",{"$f":"IF(R8=0,IF(OR(COUNTIF($L8:$T8,0)=1,COUNTIF(R$2:R$10,0)=1,COUNTIF($R$8:$T$10,0)=1),$L$1,\"\"),\"\")","v":""},"",""]
[null,null,null,null,null,null,null,null,null,null,null,null,null,null,null,null,null,null,null,null,null,"","","","","","","","",""]
[null,null,null,null,null,null,null,null,null,null,null,null,null,null,null,null,null,null,null,null,null,"","","","","","","","",""]
[]
[]
[{"$f":"Overall!A24","v":0},{"$f":"Overall!B24","v":0},{"$f":"Overall!C24","v":9},{"$f":"Overall!D24","v":5},{"$f":"Overall!E24","v":0},{"$f":"Overall!F24","v":0},{"$f":"Overall!G24","v":0},{"$f":"Overall!H24","v":0},{"$f":"Overall!I24","v":6}]
[{"$f":"Overall!A25","v":0},{"$f":"Overall!B25","v":0},{"$f":"Overall!C25","v":4},{"$f":"Overall!D25","v":9},{"$f":"Overall!E25","v":0},{"$f":"Overall!F25","v":2},{"$f":"Overall!G25","v":0},{"$f":"Overall!H25","v":8},{"$f":"Overall!I25","v":0}]
[{"$f":"Overall!A26","v":0},{"$f":"Overall!B26","v":6},{"$f":"Overall!C26","v":0},{"$f":"Overall!D26","v":0},{"$f":"Overall!E26","v":0},{"$f":"Overall!F26","v":0},{"$f":"Overall!G26","v":0},{"$f":"Overall!H26","v":0},{"$f":"Overall!I26","v":0}]
[{"$f":"Overall!A27","v":1},{"$f":"Overall!B27","v":0},{"$f":"Overall!C27","v":0},{"$f":"Overall!D27","v":0},{"$f":"Overall!E27","v":0},{"$f":"Overall!F27","v":8},{"$f":"Overall!G27","v":0},{"$f":"Overall!H27","v":0},{"$f":"Overall!I27","v":3}]
[{"$f":"Overall!A28","v":0},{"$f":"Overall!B28","v":0},{"$f":"Overall!C28","v":6},{"$f":"Overall!D28","v":0},{"$f":"Overall!E28","v":9},{"$f":"Overall!F28","v":0},{"$f":"Overall!G28","v":2},{"$f":"Overall!H28","v":0},{"$f":"Overall!I28","v":0}]
[{"$f":"Overall!A29","v":5},{"$f":"Overall!B29","v":0},{"$f":"Overall!C29","v":0},{"$f":"Overall!D29","v":7},{"$f":"Overall!E29","v":0},{"$f":"Overall!F29","v":0},{"$f":"Overall!G29","v":0},{"$f":"Overall!H29","v":0},{"$f":"Overall!I29","v":1}]
[{"$f":"Overall!A30","v":0},{"$f":"Overall!B30","v":0},{"$f":"Overall!C30","v":0},{"$f":"Overall!D30","v":0},{"$f":"Overall!E30","v":0},{"$f":"Overall!F30","v":0},{"$f":"Overall!G30","v":0},{"$f":"Overall!H30","v":7},{"$f":"Overall!I30","v":0}]
[{"$f":"Overall!A31","v":0},{"$f":"Overall!B31","v":1},{"$f":"Overall!C31","v":0},{"$f":"Overall!D31","v":8},{"$f":"Overall!E31","v":0},{"$f":"Overall!F31","v":9},{"$f":"Overall!G31","v":5},{"$f":"Overall!H31","v":0},{"$f":"Overall!I31","v":0}]
[{"$f":"Overall!A32","v":4},{"$f":"Overall!B32","v":0},{"$f":"Overall!C32","v":0},{"$f":"Overall!D32","v":0},{"$f":"Overall!E32","v":0},{"$f":"Overall!F32","v":7},{"$f":"Overall!G32","v":6},{"$f":"Overall!H32","v":0},{"$f":"Overall!I32","v":0}]

{"sheet":"3","index":3,"n_rows":32,"n_cols":30,"rows_kept":32,"cut":false,"hidden":false,"merged":[]}
[null,null,null,null,null,null,null,null,null,null,null,3]
[null,null,null,null,null,null,null,null,null,null,null,{"$f":"IF(A24=$L$1,2,IF(A24<>0,1,IF((COUNTIF($A24:$I24,$L$1)+COUNTIF(A$24:A$32,$L$1)+COUNTIF($A$24:$C$26,$L$1))<>0,3,0)))","v":0},0,1,{"$f":"IF(D24=$L$1,2,IF(D24<>0,1,IF((COUNTIF($A24:$I24,$L$1)+COUNTIF(D$24:D$32,$L$1)+COUNTIF($D$24:$F$26,$L$1))<>0,3,0)))","v":1},0,0,{"$f":"IF(G24=$L$1,2,IF(G24<>0,1,IF((COUNTIF($A24:$I24,$L$1)+COUNTIF(G$24:G$32,$L$1)+COUNTIF($G$24:$I$26,$L$1))<>0,3,0)))","v":0},0,1,null,{"$f":"IF(L2>0,1,0)","v":0},{"$f":"IF(M2>0,1,0)","v":0},{"$f":"IF(N2>0,1,0)","v":1},{"$f":"IF(O2>0,1,0)","v":1},{"$f":"IF(P2>0,1,0)","v":0},{"$f":"IF(Q2>0,1,0)","v":0},{"$f":"IF(R2>0,1,0)","v":0},{"$f":"IF(S2>0,1,0)","v":0},{"$f":"IF(T2>0,1,0)","v":1}]
[null,null,null,null,null,null,null,null,null,null,null,0,0,1,1,0,1,0,1,3,null,0,0,1,1,0,1,0,1,1]
[null,null,null,null,null,null,null,null,null,null,null,0,1,0,0,0,0,0,0,3,null,0,1,0,0,0,0,0,0,1]
[null,null,null,null,null,null,null,null,null,null,null,{"$f":"IF(A27=$L$1,2,IF(A27<>0,1,IF((COUNTIF($A27:$I27,$L$1)+COUNTIF(A$24:A$32,$L$1)+COUNTIF($A$27:$C$29,$L$1))<>0,3,0)))","v":1},3,3,{"$f":"IF(D27=$L$1,2,IF(D27<>0,1,IF((COUNTIF($A27:$I27,$L$1)+COUNTIF(D$24:D$32,$L$1)+COUNTIF($D$27:$F$29,$L$1))<>0,3,0)))","v":3},3,1,{"$f":"IF(G27=$L$1,2,IF(G27<>0,1,IF((COUNTIF($A27:$I27,$L$1)+COUNTIF(G$24:G$32,$L$1)+COUNTIF($G$27:$I$29,$L$1))<>0,3,0)))","v":3},3,2,null,1,1,1,1,1,1,1,1,1]
[null,null,null,null,null,null,null,null,null,null,null,0,0,1,0,1,0,1,3,3,null,0,0,1,0,1,0,1,1,1]
[null,null,null,null,null,null,null,null,null,null,null,1,0,0,1,0,0,3,3,1,null,1,0,0,1,0,0,1,1,1]
[null,null,null,null,null,null,null,null,null,null,null,{"$f":"IF(A30=$L$1,2,IF(A30<>0,1,IF((COUNTIF($A30:$I30,$L$1)+COUNTIF(A$24:A$32,$L$1)+COUNTIF($A$30:$C$32,$L$1))<>0,3,0)))","v":0},0,0,{"$f":"IF(D30=$L$1,2,IF(D30<>0,1,IF((COUNTIF($A30:$I30,$L$1)+COUNTIF(D$24:D$32,$L$1)+COUNTIF($D$30:$F$32,$L$1))<>0,3,0)))","v":0},0,0,{"$f":"IF(G30=$L$1,2,IF(G30<>0,1,IF((COUNTIF($A30:$I30,$L$1)+COUNTIF(G$24:G$32,$L$1)+COUNTIF($G$30:$I$32,$L$1))<>0,3,0)))","v":0},1,3,null,0,0,0,0,0,0,0,1,1]
[null,null,null,null,null,null,null,null,null,null,null,0,1,0,1,0,1,1,0,3,null,0,1,0,1,0,1,1,0,1]
[null,null,null,null,null,null,null,null,null,null,null,1,0,0,0,0,1,1,0,3,null,1,0,0,0,0,1,1,0,1]
[]
[]
[null,null,null,null,null,null,null,null,null,null,null,null,null,null,null,null,null,null,null,null,null,{"$f":"IF(L2=0,IF(OR(COUNTIF($L2:$T2,0)=1,COUNTIF(L$2:L$10,0)=1,COUNTIF($L$2:$N$4,0)=1),$L$1,\"\"),\"\")","v":""},"","",{"$f":"IF(O2=0,IF(OR(COUNTIF($L2:$T2,0)=1,COUNTIF(O$2:O$10,0)=1,COUNTIF($O$2:$Q$4,0)=1),$L$1,\"\"),\"\")","v":""},"","",{"$f":"IF(R2=0,IF(OR(COUNTIF($L2:$T2,0)=1,COUNTIF(R$2:R$10,0)=1,COUNTIF($R$2:$T$4,0)=1),$L$1,\"\"),\"\")","v":""},"",""]
[null,null,null,null,null,null,null,null,null,null,null,null,null,null,null,null,null,null,null,null,null,"","","","","","","","",""]
[null,null,null,null,null,null,null,null,null,null,null,null,null,null,null,null,null,null,null,null,null,"","","","","","","","",""]
[null,null,null,null,null,null,null,null,null,null,null,null,null,null,null,null,null,null,null,null,null,{"$f":"IF(L5=0,IF(OR(COUNTIF($L5:$T5,0)=1,COUNTIF(L$2:L$10,0)=1,COUNTIF($L$5:$N$7,0)=1),$L$1,\"\"),\"\")","v":""},"","",{"$f":"IF(O5=0,IF(OR(COUNTIF($L5:$T5,0)=1,COUNTIF(O$2:O$10,0)=1,COUNTIF($O$5:$Q$7,0)=1),$L$1,\"\"),\"\")","v":""},"","",{"$f":"IF(R5=0,IF(OR(COUNTIF($L5:$T5,0)=1,COUNTIF(R$2:R$10,0)=1,COUNTIF($R$5:$T$7,0)=1),$L$1,\"\"),\"\")","v":""},"",""]
[null,null,null,null,null,null,null,null,null,null,null,null,null,null,null,null,null,null,null,null,null,"","","","","","","","",""]
[null,null,null,null,null,null,null,null,null,null,null,null,null,null,null,null,null,null,null,null,null,"","","","","","","","",""]
[null,null,null,null,null,null,null,null,null,null,null,null,null,null,null,null,null,null,null,null,null,{"$f":"IF(L8=0,IF(OR(COUNTIF($L8:$T8,0)=1,COUNTIF(L$2:L$10,0)=1,COUNTIF($L$4:$N$8,10)=1),$L$1,\"\"),\"\")","v":""},"","",{"$f":"IF(O8=0,IF(OR(COUNTIF($L8:$T8,0)=1,COUNTIF(O$2:O$10,0)=1,COUNTIF($O$8:$Q$10,0)=1),$L$1,\"\"),\"\")","v":""},"","",{"$f":"IF(R8=0,IF(OR(COUNTIF($L8:$T8,0)=1,COUNTIF(R$2:R$10,0)=1,COUNTIF($R$8:$T$10,0)=1),$L$1,\"\"),\"\")","v":""},"",""]
[null,null,null,null,null,null,null,null,null,null,null,null,null,null,null,null,null,null,null,null,null,"","","","","","","","",""]
[null,null,null,null,null,null,null,null,null,null,null,null,null,null,null,null,null,null,null,null,null,"","","","","","","","",""]
[]
[]
[{"$f":"Overall!A24","v":0},{"$f":"Overall!B24","v":0},{"$f":"Overall!C24","v":9},{"$f":"Overall!D24","v":5},{"$f":"Overall!E24","v":0},{"$f":"Overall!F24","v":0},{"$f":"Overall!G24","v":0},{"$f":"Overall!H24","v":0},{"$f":"Overall!I24","v":6}]
[{"$f":"Overall!A25","v":0},{"$f":"Overall!B25","v":0},{"$f":"Overall!C25","v":4},{"$f":"Overall!D25","v":9},{"$f":"Overall!E25","v":0},{"$f":"Overall!F25","v":2},{"$f":"Overall!G25","v":0},{"$f":"Overall!H25","v":8},{"$f":"Overall!I25","v":0}]
[{"$f":"Overall!A26","v":0},{"$f":"Overall!B26","v":6},{"$f":"Overall!C26","v":0},{"$f":"Overall!D26","v":0},{"$f":"Overall!E26","v":0},{"$f":"Overall!F26","v":0},{"$f":"Overall!G26","v":0},{"$f":"Overall!H26","v":0},{"$f":"Overall!I26","v":0}]
[{"$f":"Overall!A27","v":1},{"$f":"Overall!B27","v":0},{"$f":"Overall!C27","v":0},{"$f":"Overall!D27","v":0},{"$f":"Overall!E27","v":0},{"$f":"Overall!F27","v":8},{"$f":"Overall!G27","v":0},{"$f":"Overall!H27","v":0},{"$f":"Overall!I27","v":3}]
[{"$f":"Overall!A28","v":0},{"$f":"Overall!B28","v":0},{"$f":"Overall!C28","v":6},{"$f":"Overall!D28","v":0},{"$f":"Overall!E28","v":9},{"$f":"Overall!F28","v":0},{"$f":"Overall!G28","v":2},{"$f":"Overall!H28","v":0},{"$f":"Overall!I28","v":0}]
[{"$f":"Overall!A29","v":5},{"$f":"Overall!B29","v":0},{"$f":"Overall!C29","v":0},{"$f":"Overall!D29","v":7},{"$f":"Overall!E29","v":0},{"$f":"Overall!F29","v":0},{"$f":"Overall!G29","v":0},{"$f":"Overall!H29","v":0},{"$f":"Overall!I29","v":1}]
[{"$f":"Overall!A30","v":0},{"$f":"Overall!B30","v":0},{"$f":"Overall!C30","v":0},{"$f":"Overall!D30","v":0},{"$f":"Overall!E30","v":0},{"$f":"Overall!F30","v":0},{"$f":"Overall!G30","v":0},{"$f":"Overall!H30","v":7},{"$f":"Overall!I30","v":0}]
[{"$f":"Overall!A31","v":0},{"$f":"Overall!B31","v":1},{"$f":"Overall!C31","v":0},{"$f":"Overall!D31","v":8},{"$f":"Overall!E31","v":0},{"$f":"Overall!F31","v":9},{"$f":"Overall!G31","v":5},{"$f":"Overall!H31","v":0},{"$f":"Overall!I31","v":0}]
[{"$f":"Overall!A32","v":4},{"$f":"Overall!B32","v":0},{"$f":"Overall!C32","v":0},{"$f":"Overall!D32","v":0},{"$f":"Overall!E32","v":0},{"$f":"Overall!F32","v":7},{"$f":"Overall!G32","v":6},{"$f":"Overall!H32","v":0},{"$f":"Overall!I32","v":0}]

{"sheet":"4","index":4,"n_rows":32,"n_cols":30,"rows_kept":32,"cut":false,"hidden":false,"merged":[]}
[null,null,null,null,null,null,null,null,null,null,null,4]
[null,null,null,null,null,null,null,null,null,null,null,{"$f":"IF(A24=$L$1,2,IF(A24<>0,1,IF((COUNTIF($A24:$I24,$L$1)+COUNTIF(A$24:A$32,$L$1)+COUNTIF($A$24:$C$26,$L$1))<>0,3,0)))","v":3},3,1,{"$f":"IF(D24=$L$1,2,IF(D24<>0,1,IF((COUNTIF($A24:$I24,$L$1)+COUNTIF(D$24:D$32,$L$1)+COUNTIF($D$24:$F$26,$L$1))<>0,3,0)))","v":1},0,0,{"$f":"IF(G24=$L$1,2,IF(G24<>0,1,IF((COUNTIF($A24:$I24,$L$1)+COUNTIF(G$24:G$32,$L$1)+COUNTIF($G$24:$I$26,$L$1))<>0,3,0)))","v":0},0,1,null,{"$f":"IF(L2>0,1,0)","v":1},{"$f":"IF(M2>0,1,0)","v":1},{"$f":"IF(N2>0,1,0)","v":1},{"$f":"IF(O2>0,1,0)","v":1},{"$f":"IF(P2>0,1,0)","v":0},{"$f":"IF(Q2>0,1,0)","v":0},{"$f":"IF(R2>0,1,0)","v":0},{"$f":"IF(S2>0,1,0)","v":0},{"$f":"IF(T2>0,1,0)","v":1}]
[null,null,null,null,null,null,null,null,null,null,null,3,3,2,1,3,1,3,1,3,null,1,1,1,1,1,1,1,1,1]
[null,null,null,null,null,null,null,null,null,null,null,3,1,3,0,0,0,0,0,0,null,1,1,1,0,0,0,0,0,0]
[null,null,null,null,null,null,null,null,null,null,null,{"$f":"IF(A27=$L$1,2,IF(A27<>0,1,IF((COUNTIF($A27:$I27,$L$1)+COUNTIF(A$24:A$32,$L$1)+COUNTIF($A$27:$C$29,$L$1))<>0,3,0)))","v":1},0,3,{"$f":"IF(D27=$L$1,2,IF(D27<>0,1,IF((COUNTIF($A27:$I27,$L$1)+COUNTIF(D$24:D$32,$L$1)+COUNTIF($D$27:$F$29,$L$1))<>0,3,0)))","v":0},0,1,{"$f":"IF(G27=$L$1,2,IF(G27<>0,1,IF((COUNTIF($A27:$I27,$L$1)+COUNTIF(G$24:G$32,$L$1)+COUNTIF($G$27:$I$29,$L$1))<>0,3,0)))","v":0},0,1,null,1,0,1,0,0,1,0,0,1]
[null,null,null,null,null,null,null,null,null,null,null,3,0,1,0,1,0,1,0,0,null,1,0,1,0,1,0,1,0,0]
[null,null,null,null,null,null,null,null,null,null,null,1,0,3,1,0,0,0,0,1,null,1,0,1,1,0,0,0,0,1]
[null,null,null,null,null,null,null,null,null,null,null,{"$f":"IF(A30=$L$1,2,IF(A30<>0,1,IF((COUNTIF($A30:$I30,$L$1)+COUNTIF(A$24:A$32,$L$1)+COUNTIF($A$30:$C$32,$L$1))<>0,3,0)))","v":3},3,3,{"$f":"IF(D30=$L$1,2,IF(D30<>0,1,IF((COUNTIF($A30:$I30,$L$1)+COUNTIF(D$24:D$32,$L$1)+COUNTIF($D$30:$F$32,$L$1))<>0,3,0)))","v":0},0,0,{"$f":"IF(G30=$L$1,2,IF(G30<>0,1,IF((COUNTIF($A30:$I30,$L$1)+COUNTIF(G$24:G$32,$L$1)+COUNTIF($G$30:$I$32,$L$1))<>0,3,0)))","v":0},1,0,null,1,1,1,0,0,0,0,1,0]
[null,null,null,null,null,null,null,null,null,null,null,3,1,3,1,0,1,1,0,0,null,1,1,1,1,0,1,1,0,0]
[null,null,null,null,null,null,null,null,null,null,null,2,3,3,3,3,1,1,3,3,null,1,1,1,1,1,1,1,1,1]
[]
[]
[null,null,null,null,null,null,null,null,null,null,null,null,null,null,null,null,null,null,null,null,null,{"$f":"IF(L2=0,IF(OR(COUNTIF($L2:$T2,0)=1,COUNTIF(L$2:L$10,0)=1,COUNTIF($L$2:$N$4,0)=1),$L$1,\"\"),\"\")","v":""},"","",{"$f":"IF(O2=0,IF(OR(COUNTIF($L2:$T2,0)=1,COUNTIF(O$2:O$10,0)=1,COUNTIF($O$2:$Q$4,0)=1),$L$1,\"\"),\"\")","v":""},"","",{"$f":"IF(R2=0,IF(OR(COUNTIF($L2:$T2,0)=1,COUNTIF(R$2:R$10,0)=1,COUNTIF($R$2:$T$4,0)=1),$L$1,\"\"),\"\")","v":""},"",""]
[null,null,null,null,null,null,null,null,null,null,null,null,null,null,null,null,null,null,null,null,null,"","","","","","","","",""]
[null,null,null,null,null,null,null,null,null,null,null,null,null,null,null,null,null,null,null,null,null,"","","","","","","","",""]
[null,null,null,null,null,null,null,null,null,null,null,null,null,null,null,null,null,null,null,null,null,{"$f":"IF(L5=0,IF(OR(COUNTIF($L5:$T5,0)=1,COUNTIF(L$2:L$10,0)=1,COUNTIF($L$5:$N$7,0)=1),$L$1,\"\"),\"\")","v":""},"","",{"$f":"IF(O5=0,IF(OR(COUNTIF($L5:$T5,0)=1,COUNTIF(O$2:O$10,0)=1,COUNTIF($O$5:$Q$7,0)=1),$L$1,\"\"),\"\")","v":""},"","",{"$f":"IF(R5=0,IF(OR(COUNTIF($L5:$T5,0)=1,COUNTIF(R$2:R$10,0)=1,COUNTIF($R$5:$T$7,0)=1),$L$1,\"\"),\"\")","v":""},"",""]
[null,null,null,null,null,null,null,null,null,null,null,null,null,null,null,null,null,null,null,null,null,"","","","","","","","",""]
[null,null,null,null,null,null,null,null,null,null,null,null,null,null,null,null,null,null,null,null,null,"","","","","","","","",""]
[null,null,null,null,null,null,null,null,null,null,null,null,null,null,null,null,null,null,null,null,null,{"$f":"IF(L8=0,IF(OR(COUNTIF($L8:$T8,0)=1,COUNTIF(L$2:L$10,0)=1,COUNTIF($L$4:$N$8,10)=1),$L$1,\"\"),\"\")","v":""},"","",{"$f":"IF(O8=0,IF(OR(COUNTIF($L8:$T8,0)=1,COUNTIF(O$2:O$10,0)=1,COUNTIF($O$8:$Q$10,0)=1),$L$1,\"\"),\"\")","v":""},"","",{"$f":"IF(R8=0,IF(OR(COUNTIF($L8:$T8,0)=1,COUNTIF(R$2:R$10,0)=1,COUNTIF($R$8:$T$10,0)=1),$L$1,\"\"),\"\")","v":""},"",""]
[null,null,null,null,null,null,null,null,null,null,null,null,null,null,null,null,null,null,null,null,null,"","","","","","","","",""]
[null,null,null,null,null,null,null,null,null,null,null,null,null,null,null,null,null,null,null,null,null,"","","","","","","","",""]
[]
[]
[{"$f":"Overall!A24","v":0},{"$f":"Overall!B24","v":0},{"$f":"Overall!C24","v":9},{"$f":"Overall!D24","v":5},{"$f":"Overall!E24","v":0},{"$f":"Overall!F24","v":0},{"$f":"Overall!G24","v":0},{"$f":"Overall!H24","v":0},{"$f":"Overall!I24","v":6}]
[{"$f":"Overall!A25","v":0},{"$f":"Overall!B25","v":0},{"$f":"Overall!C25","v":4},{"$f":"Overall!D25","v":9},{"$f":"Overall!E25","v":0},{"$f":"Overall!F25","v":2},{"$f":"Overall!G25","v":0},{"$f":"Overall!H25","v":8},{"$f":"Overall!I25","v":0}]
[{"$f":"Overall!A26","v":0},{"$f":"Overall!B26","v":6},{"$f":"Overall!C26","v":0},{"$f":"Overall!D26","v":0},{"$f":"Overall!E26","v":0},{"$f":"Overall!F26","v":0},{"$f":"Overall!G26","v":0},{"$f":"Overall!H26","v":0},{"$f":"Overall!I26","v":0}]
[{"$f":"Overall!A27","v":1},{"$f":"Overall!B27","v":0},{"$f":"Overall!C27","v":0},{"$f":"Overall!D27","v":0},{"$f":"Overall!E27","v":0},{"$f":"Overall!F27","v":8},{"$f":"Overall!G27","v":0},{"$f":"Overall!H27","v":0},{"$f":"Overall!I27","v":3}]
[{"$f":"Overall!A28","v":0},{"$f":"Overall!B28","v":0},{"$f":"Overall!C28","v":6},{"$f":"Overall!D28","v":0},{"$f":"Overall!E28","v":9},{"$f":"Overall!F28","v":0},{"$f":"Overall!G28","v":2},{"$f":"Overall!H28","v":0},{"$f":"Overall!I28","v":0}]
[{"$f":"Overall!A29","v":5},{"$f":"Overall!B29","v":0},{"$f":"Overall!C29","v":0},{"$f":"Overall!D29","v":7},{"$f":"Overall!E29","v":0},{"$f":"Overall!F29","v":0},{"$f":"Overall!G29","v":0},{"$f":"Overall!H29","v":0},{"$f":"Overall!I29","v":1}]
[{"$f":"Overall!A30","v":0},{"$f":"Overall!B30","v":0},{"$f":"Overall!C30","v":0},{"$f":"Overall!D30","v":0},{"$f":"Overall!E30","v":0},{"$f":"Overall!F30","v":0},{"$f":"Overall!G30","v":0},{"$f":"Overall!H30","v":7},{"$f":"Overall!I30","v":0}]
[{"$f":"Overall!A31","v":0},{"$f":"Overall!B31","v":1},{"$f":"Overall!C31","v":0},{"$f":"Overall!D31","v":8},{"$f":"Overall!E31","v":0},{"$f":"Overall!F31","v":9},{"$f":"Overall!G31","v":5},{"$f":"Overall!H31","v":0},{"$f":"Overall!I31","v":0}]
[{"$f":"Overall!A32","v":4},{"$f":"Overall!B32","v":0},{"$f":"Overall!C32","v":0},{"$f":"Overall!D32","v":0},{"$f":"Overall!E32","v":0},{"$f":"Overall!F32","v":7},{"$f":"Overall!G32","v":6},{"$f":"Overall!H32","v":0},{"$f":"Overall!I32","v":0}]

{"sheet":"5","index":5,"n_rows":32,"n_cols":30,"rows_kept":32,"cut":false,"hidden":false,"merged":[]}
[null,null,null,null,null,null,null,null,null,null,null,5]
[null,null,null,null,null,null,null,null,null,null,null,{"$f":"IF(A24=$L$1,2,IF(A24<>0,1,IF((COUNTIF($A24:$I24,$L$1)+COUNTIF(A$24:A$32,$L$1)+COUNTIF($A$24:$C$26,$L$1))<>0,3,0)))","v":3},3,1,{"$f":"IF(D24=$L$1,2,IF(D24<>0,1,IF((COUNTIF($A24:$I24,$L$1)+COUNTIF(D$24:D$32,$L$1)+COUNTIF($D$24:$F$26,$L$1))<>0,3,0)))","v":2},3,3,{"$f":"IF(G24=$L$1,2,IF(G24<>0,1,IF((COUNTIF($A24:$I24,$L$1)+COUNTIF(G$24:G$32,$L$1)+COUNTIF($G$24:$I$26,$L$1))<>0,3,0)))","v":3},3,1,null,{"$f":"IF(L2>0,1,0)","v":1},{"$f":"IF(M2>0,1,0)","v":1},{"$f":"IF(N2>0,1,0)","v":1},{"$f":"IF(O2>0,1,0)","v":1},{"$f":"IF(P2>0,1,0)","v":1},{"$f":"IF(Q2>0,1,0)","v":1},{"$f":"IF(R2>0,1,0)","v":1},{"$f":"IF(S2>0,1,0)","v":1},{"$f":"IF(T2>0,1,0)","v":1}]
[null,null,null,null,null,null,null,null,null,null,null,3,0,1,1,3,1,3,1,0,null,1,0,1,1,1,1,1,1,0]
[null,null,null,null,null,null,null,null,null,null,null,3,1,0,3,3,3,3,0,0,null,1,1,0,1,1,1,1,0,0]
[null,null,null,null,null,null,null,null,null,null,null,{"$f":"IF(A27=$L$1,2,IF(A27<>0,1,IF((COUNTIF($A27:$I27,$L$1)+COUNTIF(A$24:A$32,$L$1)+COUNTIF($A$27:$C$29,$L$1))<>0,3,0)))","v":1},3,3,{"$f":"IF(D27=$L$1,2,IF(D27<>0,1,IF((COUNTIF($A27:$I27,$L$1)+COUNTIF(D$24:D$32,$L$1)+COUNTIF($D$27:$F$29,$L$1))<>0,3,0)))","v":3},0,1,{"$f":"IF(G27=$L$1,2,IF(G27<>0,1,IF((COUNTIF($A27:$I27,$L$1)+COUNTIF(G$24:G$32,$L$1)+COUNTIF($G$27:$I$29,$L$1))<>0,3,0)))","v":3},0,1,null,1,1,1,1,0,1,1,0,1]
[null,null,null,null,null,null,null,null,null,null,null,3,3,1,3,1,0,1,0,0,null,1,1,1,1,1,0,1,0,0]
[null,null,null,null,null,null,null,null,null,null,null,2,3,3,1,3,3,3,3,1,null,1,1,1,1,1,1,1,1,1]
[null,null,null,null,null,null,null,null,null,null,null,{"$f":"IF(A30=$L$1,2,IF(A30<>0,1,IF((COUNTIF($A30:$I30,$L$1)+COUNTIF(A$24:A$32,$L$1)+COUNTIF($A$30:$C$32,$L$1))<>0,3,0)))","v":3},0,0,{"$f":"IF(D30=$L$1,2,IF(D30<>0,1,IF((COUNTIF($A30:$I30,$L$1)+COUNTIF(D$24:D$32,$L$1)+COUNTIF($D$30:$F$32,$L$1))<>0,3,0)))","v":3},0,0,{"$f":"IF(G30=$L$1,2,IF(G30<>0,1,IF((COUNTIF($A30:$I30,$L$1)+COUNTIF(G$24:G$32,$L$1)+COUNTIF($G$30:$I$32,$L$1))<>0,3,0)))","v":3},1,3,null,1,0,0,1,0,0,1,1,1]
[null,null,null,null,null,null,null,null,null,null,null,3,1,3,1,3,1,2,3,3,null,1,1,1,1,1,1,1,1,1]
[null,null,null,null,null,null,null,null,null,null,null,1,0,0,3,0,1,1,3,3,null,1,0,0,1,0,1,1,1,1]
[]
[]
[null,null,null,null,null,null,null,null,null,null,null,null,null,null,null,null,null,null,null,null,null,{"$f":"IF(L2=0,IF(OR(COUNTIF($L2:$T2,0)=1,COUNTIF(L$2:L$10,0)=1,COUNTIF($L$2:$N$4,0)=1),$L$1,\"\"),\"\")","v":""},"","",{"$f":"IF(O2=0,IF(OR(COUNTIF($L2:$T2,0)=1,COUNTIF(O$2:O$10,0)=1,COUNTIF($O$2:$Q$4,0)=1),$L$1,\"\"),\"\")","v":""},"","",{"$f":"IF(R2=0,IF(OR(COUNTIF($L2:$T2,0)=1,COUNTIF(R$2:R$10,0)=1,COUNTIF($R$2:$T$4,0)=1),$L$1,\"\"),\"\")","v":""},"",""]
[null,null,null,null,null,null,null,null,null,null,null,null,null,null,null,null,null,null,null,null,null,"","","","","","","","",""]
[null,null,null,null,null,null,null,null,null,null,null,null,null,null,null,null,null,null,null,null,null,"","","","","","","","",""]
[null,null,null,null,null,null,null,null,null,null,null,null,null,null,null,null,null,null,null,null,null,{"$f":"IF(L5=0,IF(OR(COUNTIF($L5:$T5,0)=1,COUNTIF(L$2:L$10,0)=1,COUNTIF($L$5:$N$7,0)=1),$L$1,\"\"),\"\")","v":""},"","",{"$f":"IF(O5=0,IF(OR(COUNTIF($L5:$T5,0)=1,COUNTIF(O$2:O$10,0)=1,COUNTIF($O$5:$Q$7,0)=1),$L$1,\"\"),\"\")","v":""},"","",{"$f":"IF(R5=0,IF(OR(COUNTIF($L5:$T5,0)=1,COUNTIF(R$2:R$10,0)=1,COUNTIF($R$5:$T$7,0)=1),$L$1,\"\"),\"\")","v":""},"",""]
[null,null,null,null,null,null,null,null,null,null,null,null,null,null,null,null,null,null,null,null,null,"","","","","","","","",""]
[null,null,null,null,null,null,null,null,null,null,null,null,null,null,null,null,null,null,null,null,null,"","","","","","","","",""]
[null,null,null,null,null,null,null,null,null,null,null,null,null,null,null,null,null,null,null,null,null,{"$f":"IF(L8=0,IF(OR(COUNTIF($L8:$T8,0)=1,COUNTIF(L$2:L$10,0)=1,COUNTIF($L$4:$N$8,10)=1),$L$1,\"\"),\"\")","v":""},"","",{"$f":"IF(O8=0,IF(OR(COUNTIF($L8:$T8,0)=1,COUNTIF(O$2:O$10,0)=1,COUNTIF($O$8:$Q$10,0)=1),$L$1,\"\"),\"\")","v":""},"","",{"$f":"IF(R8=0,IF(OR(COUNTIF($L8:$T8,0)=1,COUNTIF(R$2:R$10,0)=1,COUNTIF($R$8:$T$10,0)=1),$L$1,\"\"),\"\")","v":""},"",""]
[null,null,null,null,null,null,null,null,null,null,null,null,null,null,null,null,null,null,null,null,null,"","","","","","","","",""]
[null,null,null,null,null,null,null,null,null,null,null,null,null,null,null,null,null,null,null,null,null,"","","","","","","","",""]
[]
[]
[{"$f":"Overall!A24","v":0},{"$f":"Overall!B24","v":0},{"$f":"Overall!C24","v":9},{"$f":"Overall!D24","v":5},{"$f":"Overall!E24","v":0},{"$f":"Overall!F24","v":0},{"$f":"Overall!G24","v":0},{"$f":"Overall!H24","v":0},{"$f":"Overall!I24","v":6}]
[{"$f":"Overall!A25","v":0},{"$f":"Overall!B25","v":0},{"$f":"Overall!C25","v":4},{"$f":"Overall!D25","v":9},{"$f":"Overall!E25","v":0},{"$f":"Overall!F25","v":2},{"$f":"Overall!G25","v":0},{"$f":"Overall!H25","v":8},{"$f":"Overall!I25","v":0}]
[{"$f":"Overall!A26","v":0},{"$f":"Overall!B26","v":6},{"$f":"Overall!C26","v":0},{"$f":"Overall!D26","v":0},{"$f":"Overall!E26","v":0},{"$f":"Overall!F26","v":0},{"$f":"Overall!G26","v":0},{"$f":"Overall!H26","v":0},{"$f":"Overall!I26","v":0}]
[{"$f":"Overall!A27","v":1},{"$f":"Overall!B27","v":0},{"$f":"Overall!C27","v":0},{"$f":"Overall!D27","v":0},{"$f":"Overall!E27","v":0},{"$f":"Overall!F27","v":8},{"$f":"Overall!G27","v":0},{"$f":"Overall!H27","v":0},{"$f":"Overall!I27","v":3}]
[{"$f":"Overall!A28","v":0},{"$f":"Overall!B28","v":0},{"$f":"Overall!C28","v":6},{"$f":"Overall!D28","v":0},{"$f":"Overall!E28","v":9},{"$f":"Overall!F28","v":0},{"$f":"Overall!G28","v":2},{"$f":"Overall!H28","v":0},{"$f":"Overall!I28","v":0}]
[{"$f":"Overall!A29","v":5},{"$f":"Overall!B29","v":0},{"$f":"Overall!C29","v":0},{"$f":"Overall!D29","v":7},{"$f":"Overall!E29","v":0},{"$f":"Overall!F29","v":0},{"$f":"Overall!G29","v":0},{"$f":"Overall!H29","v":0},{"$f":"Overall!I29","v":1}]
[{"$f":"Overall!A30","v":0},{"$f":"Overall!B30","v":0},{"$f":"Overall!C30","v":0},{"$f":"Overall!D30","v":0},{"$f":"Overall!E30","v":0},{"$f":"Overall!F30","v":0},{"$f":"Overall!G30","v":0},{"$f":"Overall!H30","v":7},{"$f":"Overall!I30","v":0}]
[{"$f":"Overall!A31","v":0},{"$f":"Overall!B31","v":1},{"$f":"Overall!C31","v":0},{"$f":"Overall!D31","v":8},{"$f":"Overall!E31","v":0},{"$f":"Overall!F31","v":9},{"$f":"Overall!G31","v":5},{"$f":"Overall!H31","v":0},{"$f":"Overall!I31","v":0}]
[{"$f":"Overall!A32","v":4},{"$f":"Overall!B32","v":0},{"$f":"Overall!C32","v":0},{"$f":"Overall!D32","v":0},{"$f":"Overall!E32","v":0},{"$f":"Overall!F32","v":7},{"$f":"Overall!G32","v":6},{"$f":"Overall!H32","v":0},{"$f":"Overall!I32","v":0}]

{"sheet":"6","index":6,"n_rows":32,"n_cols":30,"rows_kept":32,"cut":false,"hidden":false,"merged":[]}
[null,null,null,null,null,null,null,null,null,null,null,6]
[null,null,null,null,null,null,null,null,null,null,null,{"$f":"IF(A24=$L$1,2,IF(A24<>0,1,IF((COUNTIF($A24:$I24,$L$1)+COUNTIF(A$24:A$32,$L$1)+COUNTIF($A$24:$C$26,$L$1))<>0,3,0)))","v":3},3,1,{"$f":"IF(D24=$L$1,2,IF(D24<>0,1,IF((COUNTIF($A24:$I24,$L$1)+COUNTIF(D$24:D$32,$L$1)+COUNTIF($D$24:$F$26,$L$1))<>0,3,0)))","v":1},3,3,{"$f":"IF(G24=$L$1,2,IF(G24<>0,1,IF((COUNTIF($A24:$I24,$L$1)+COUNTIF(G$24:G$32,$L$1)+COUNTIF($G$24:$I$26,$L$1))<>0,3,0)))","v":3},3,2,null,{"$f":"IF(L2>0,1,0)","v":1},{"$f":"IF(M2>0,1,0)","v":1},{"$f":"IF(N2>0,1,0)","v":1},{"$f":"IF(O2>0,1,0)","v":1},{"$f":"IF(P2>0,1,0)","v":1},{"$f":"IF(Q2>0,1,0)","v":1},{"$f":"IF(R2>0,1,0)","v":1},{"$f":"IF(S2>0,1,0)","v":1},{"$f":"IF(T2>0,1,0)","v":1}]
[null,null,null,null,null,null,null,null,null,null,null,3,3,1,1,0,1,3,1,3,null,1,1,1,1,0,1,1,1,1]
[null,null,null,null,null,null,null,null,null,null,null,3,2,3,3,3,3,3,3,3,null,1,1,1,1,1,1,1,1,1]
[null,null,null,null,null,null,null,null,null,null,null,{"$f":"IF(A27=$L$1,2,IF(A27<>0,1,IF((COUNTIF($A27:$I27,$L$1)+COUNTIF(A$24:A$32,$L$1)+COUNTIF($A$27:$C$29,$L$1))<>0,3,0)))","v":1},3,3,{"$f":"IF(D27=$L$1,2,IF(D27<>0,1,IF((COUNTIF($A27:$I27,$L$1)+COUNTIF(D$24:D$32,$L$1)+COUNTIF($D$27:$F$29,$L$1))<>0,3,0)))","v":0},0,1,{"$f":"IF(G27=$L$1,2,IF(G27<>0,1,IF((COUNTIF($A27:$I27,$L$1)+COUNTIF(G$24:G$32,$L$1)+COUNTIF($G$27:$I$29,$L$1))<>0,3,0)))","v":3},0,1,null,1,1,1,0,0,1,1,0,1]
[null,null,null,null,null,null,null,null,null,null,null,3,3,2,3,1,3,1,3,3,null,1,1,1,1,1,1,1,1,1]
[null,null,null,null,null,null,null,null,null,null,null,1,3,3,1,0,0,3,0,1,null,1,1,1,1,0,0,1,0,1]
[null,null,null,null,null,null,null,null,null,null,null,{"$f":"IF(A30=$L$1,2,IF(A30<>0,1,IF((COUNTIF($A30:$I30,$L$1)+COUNTIF(A$24:A$32,$L$1)+COUNTIF($A$30:$C$32,$L$1))<>0,3,0)))","v":0},3,3,{"$f":"IF(D30=$L$1,2,IF(D30<>0,1,IF((COUNTIF($A30:$I30,$L$1)+COUNTIF(D$24:D$32,$L$1)+COUNTIF($D$30:$F$32,$L$1))<>0,3,0)))","v":0},0,0,{"$f":"IF(G30=$L$1,2,IF(G30<>0,1,IF((COUNTIF($A30:$I30,$L$1)+COUNTIF(G$24:G$32,$L$1)+COUNTIF($G$30:$I$32,$L$1))<>0,3,0)))","v":3},1,3,null,0,1,1,0,0,0,1,1,1]
[null,null,null,null,null,null,null,null,null,null,null,0,1,3,1,0,1,1,3,3,null,0,1,1,1,0,1,1,1,1]
[null,null,null,null,null,null,null,null,null,null,null,1,3,3,3,3,1,2,3,3,null,1,1,1,1,1,1,1,1,1]
[]
[]
[null,null,null,null,null,null,null,null,null,null,null,null,null,null,null,null,null,null,null,null,null,{"$f":"IF(L2=0,IF(OR(COUNTIF($L2:$T2,0)=1,COUNTIF(L$2:L$10,0)=1,COUNTIF($L$2:$N$4,0)=1),$L$1,\"\"),\"\")","v":""},"","",{"$f":"IF(O2=0,IF(OR(COUNTIF($L2:$T2,0)=1,COUNTIF(O$2:O$10,0)=1,COUNTIF($O$2:$Q$4,0)=1),$L$1,\"\"),\"\")","v":""},"","",{"$f":"IF(R2=0,IF(OR(COUNTIF($L2:$T2,0)=1,COUNTIF(R$2:R$10,0)=1,COUNTIF($R$2:$T$4,0)=1),$L$1,\"\"),\"\")","v":""},"",""]
[null,null,null,null,null,null,null,null,null,null,null,null,null,null,null,null,null,null,null,null,null,"","","","",6,"","","",""]
[null,null,null,null,null,null,null,null,null,null,null,null,null,null,null,null,null,null,null,null,null,"","","","","","","","",""]
[null,null,null,null,null,null,null,null,null,null,null,null,null,null,null,null,null,null,null,null,null,{"$f":"IF(L5=0,IF(OR(COUNTIF($L5:$T5,0)=1,COUNTIF(L$2:L$10,0)=1,COUNTIF($L$5:$N$7,0)=1),$L$1,\"\"),\"\")","v":""},"","",{"$f":"IF(O5=0,IF(OR(COUNTIF($L5:$T5,0)=1,COUNTIF(O$2:O$10,0)=1,COUNTIF($O$5:$Q$7,0)=1),$L$1,\"\"),\"\")","v":""},"","",{"$f":"IF(R5=0,IF(OR(COUNTIF($L5:$T5,0)=1,COUNTIF(R$2:R$10,0)=1,COUNTIF($R$5:$T$7,0)=1),$L$1,\"\"),\"\")","v":""},"",""]
[null,null,null,null,null,null,null,null,null,null,null,null,null,null,null,null,null,null,null,null,null,"","","","","","","","",""]
[null,null,null,null,null,null,null,null,null,null,null,null,null,null,null,null,null,null,null,null,null,"","","","","","","","",""]
[null,null,null,null,null,null,null,null,null,null,null,null,null,null,null,null,null,null,null,null,null,{"$f":"IF(L8=0,IF(OR(COUNTIF($L8:$T8,0)=1,COUNTIF(L$2:L$10,0)=1,COUNTIF($L$4:$N$8,10)=1),$L$1,\"\"),\"\")","v":""},"","",{"$f":"IF(O8=0,IF(OR(COUNTIF($L8:$T8,0)=1,COUNTIF(O$2:O$10,0)=1,COUNTIF($O$8:$Q$10,0)=1),$L$1,\"\"),\"\")","v":""},"","",{"$f":"IF(R8=0,IF(OR(COUNTIF($L8:$T8,0)=1,COUNTIF(R$2:R$10,0)=1,COUNTIF($R$8:$T$10,0)=1),$L$1,\"\"),\"\")","v":""},"",""]
[null,null,null,null,null,null,null,null,null,null,null,null,null,null,null,null,null,null,null,null,null,"","","","","","","","",""]
[null,null,null,null,null,null,null,null,null,null,null,null,null,null,null,null,null,null,null,null,null,"","","","","","","","",""]
[]
[]
[{"$f":"Overall!A24","v":0},{"$f":"Overall!B24","v":0},{"$f":"Overall!C24","v":9},{"$f":"Overall!D24","v":5},{"$f":"Overall!E24","v":0},{"$f":"Overall!F24","v":0},{"$f":"Overall!G24","v":0},{"$f":"Overall!H24","v":0},{"$f":"Overall!I24","v":6}]
[{"$f":"Overall!A25","v":0},{"$f":"Overall!B25","v":0},{"$f":"Overall!C25","v":4},{"$f":"Overall!D25","v":9},{"$f":"Overall!E25","v":0},{"$f":"Overall!F25","v":2},{"$f":"Overall!G25","v":0},{"$f":"Overall!H25","v":8},{"$f":"Overall!I25","v":0}]
[{"$f":"Overall!A26","v":0},{"$f":"Overall!B26","v":6},{"$f":"Overall!C26","v":0},{"$f":"Overall!D26","v":0},{"$f":"Overall!E26","v":0},{"$f":"Overall!F26","v":0},{"$f":"Overall!G26","v":0},{"$f":"Overall!H26","v":0},{"$f":"Overall!I26","v":0}]
[{"$f":"Overall!A27","v":1},{"$f":"Overall!B27","v":0},{"$f":"Overall!C27","v":0},{"$f":"Overall!D27","v":0},{"$f":"Overall!E27","v":0},{"$f":"Overall!F27","v":8},{"$f":"Overall!G27","v":0},{"$f":"Overall!H27","v":0},{"$f":"Overall!I27","v":3}]
[{"$f":"Overall!A28","v":0},{"$f":"Overall!B28","v":0},{"$f":"Overall!C28","v":6},{"$f":"Overall!D28","v":0},{"$f":"Overall!E28","v":9},{"$f":"Overall!F28","v":0},{"$f":"Overall!G28","v":2},{"$f":"Overall!H28","v":0},{"$f":"Overall!I28","v":0}]
[{"$f":"Overall!A29","v":5},{"$f":"Overall!B29","v":0},{"$f":"Overall!C29","v":0},{"$f":"Overall!D29","v":7},{"$f":"Overall!E29","v":0},{"$f":"Overall!F29","v":0},{"$f":"Overall!G29","v":0},{"$f":"Overall!H29","v":0},{"$f":"Overall!I29","v":1}]
[{"$f":"Overall!A30","v":0},{"$f":"Overall!B30","v":0},{"$f":"Overall!C30","v":0},{"$f":"Overall!D30","v":0},{"$f":"Overall!E30","v":0},{"$f":"Overall!F30","v":0},{"$f":"Overall!G30","v":0},{"$f":"Overall!H30","v":7},{"$f":"Overall!I30","v":0}]
[{"$f":"Overall!A31","v":0},{"$f":"Overall!B31","v":1},{"$f":"Overall!C31","v":0},{"$f":"Overall!D31","v":8},{"$f":"Overall!E31","v":0},{"$f":"Overall!F31","v":9},{"$f":"Overall!G31","v":5},{"$f":"Overall!H31","v":0},{"$f":"Overall!I31","v":0}]
[{"$f":"Overall!A32","v":4},{"$f":"Overall!B32","v":0},{"$f":"Overall!C32","v":0},{"$f":"Overall!D32","v":0},{"$f":"Overall!E32","v":0},{"$f":"Overall!F32","v":7},{"$f":"Overall!G32","v":6},{"$f":"Overall!H32","v":0},{"$f":"Overall!I32","v":0}]

{"sheet":"7","index":7,"n_rows":32,"n_cols":30,"rows_kept":32,"cut":false,"hidden":false,"merged":[]}
[null,null,null,null,null,null,null,null,null,null,null,7]
[null,null,null,null,null,null,null,null,null,null,null,{"$f":"IF(A24=$L$1,2,IF(A24<>0,1,IF((COUNTIF($A24:$I24,$L$1)+COUNTIF(A$24:A$32,$L$1)+COUNTIF($A$24:$C$26,$L$1))<>0,3,0)))","v":0},0,1,{"$f":"IF(D24=$L$1,2,IF(D24<>0,1,IF((COUNTIF($A24:$I24,$L$1)+COUNTIF(D$24:D$32,$L$1)+COUNTIF($D$24:$F$26,$L$1))<>0,3,0)))","v":1},0,3,{"$f":"IF(G24=$L$1,2,IF(G24<>0,1,IF((COUNTIF($A24:$I24,$L$1)+COUNTIF(G$24:G$32,$L$1)+COUNTIF($G$24:$I$26,$L$1))<>0,3,0)))","v":0},3,1,null,{"$f":"IF(L2>0,1,0)","v":0},{"$f":"IF(M2>0,1,0)","v":0},{"$f":"IF(N2>0,1,0)","v":1},{"$f":"IF(O2>0,1,0)","v":1},{"$f":"IF(P2>0,1,0)","v":0},{"$f":"IF(Q2>0,1,0)","v":1},{"$f":"IF(R2>0,1,0)","v":0},{"$f":"IF(S2>0,1,0)","v":1},{"$f":"IF(T2>0,1,0)","v":1}]
[null,null,null,null,null,null,null,null,null,null,null,0,0,1,1,0,1,0,1,0,null,0,0,1,1,0,1,0,1,0]
[null,null,null,null,null,null,null,null,null,null,null,0,1,0,3,0,3,0,3,0,null,0,1,0,1,0,1,0,1,0]
[null,null,null,null,null,null,null,null,null,null,null,{"$f":"IF(A27=$L$1,2,IF(A27<>0,1,IF((COUNTIF($A27:$I27,$L$1)+COUNTIF(A$24:A$32,$L$1)+COUNTIF($A$27:$C$29,$L$1))<>0,3,0)))","v":1},0,0,{"$f":"IF(D27=$L$1,2,IF(D27<>0,1,IF((COUNTIF($A27:$I27,$L$1)+COUNTIF(D$24:D$32,$L$1)+COUNTIF($D$27:$F$29,$L$1))<>0,3,0)))","v":3},3,1,{"$f":"IF(G27=$L$1,2,IF(G27<>0,1,IF((COUNTIF($A27:$I27,$L$1)+COUNTIF(G$24:G$32,$L$1)+COUNTIF($G$27:$I$29,$L$1))<>0,3,0)))","v":0},3,1,null,1,0,0,1,1,1,0,1,1]
[null,null,null,null,null,null,null,null,null,null,null,0,0,1,3,1,3,1,3,0,null,0,0,1,1,1,1,1,1,0]
[null,null,null,null,null,null,null,null,null,null,null,1,3,3,2,3,3,3,3,1,null,1,1,1,1,1,1,1,1,1]
[null,null,null,null,null,null,null,null,null,null,null,{"$f":"IF(A30=$L$1,2,IF(A30<>0,1,IF((COUNTIF($A30:$I30,$L$1)+COUNTIF(A$24:A$32,$L$1)+COUNTIF($A$30:$C$32,$L$1))<>0,3,0)))","v":3},3,3,{"$f":"IF(D30=$L$1,2,IF(D30<>0,1,IF((COUNTIF($A30:$I30,$L$1)+COUNTIF(D$24:D$32,$L$1)+COUNTIF($D$30:$F$32,$L$1))<>0,3,0)))","v":3},3,3,{"$f":"IF(G30=$L$1,2,IF(G30<>0,1,IF((COUNTIF($A30:$I30,$L$1)+COUNTIF(G$24:G$32,$L$1)+COUNTIF($G$30:$I$32,$L$1))<>0,3,0)))","v":3},2,3,null,1,1,1,1,1,1,1,1,1]
[null,null,null,null,null,null,null,null,null,null,null,0,1,0,1,3,1,1,3,3,null,0,1,0,1,1,1,1,1,1]
[null,null,null,null,null,null,null,null,null,null,null,1,3,3,3,3,2,1,3,3,null,1,1,1,1,1,1,1,1,1]
[]
[]
[null,null,null,null,null,null,null,null,null,null,null,null,null,null,null,null,null,null,null,null,null,{"$f":"IF(L2=0,IF(OR(COUNTIF($L2:$T2,0)=1,COUNTIF(L$2:L$10,0)=1,COUNTIF($L$2:$N$4,0)=1),$L$1,\"\"),\"\")","v":""},"","",{"$f":"IF(O2=0,IF(OR(COUNTIF($L2:$T2,0)=1,COUNTIF(O$2:O$10,0)=1,COUNTIF($O$2:$Q$4,0)=1),$L$1,\"\"),\"\")","v":""},"","",{"$f":"IF(R2=0,IF(OR(COUNTIF($L2:$T2,0)=1,COUNTIF(R$2:R$10,0)=1,COUNTIF($R$2:$T$4,0)=1),$L$1,\"\"),\"\")","v":""},"",""]
[null,null,null,null,null,null,null,null,null,null,null,null,null,null,null,null,null,null,null,null,null,"","","","","","","","",""]
[null,null,null,null,null,null,null,null,null,null,null,null,null,null,null,null,null,null,null,null,null,"","","","","","","","",""]
[null,null,null,null,null,null,null,null,null,null,null,null,null,null,null,null,null,null,null,null,null,{"$f":"IF(L5=0,IF(OR(COUNTIF($L5:$T5,0)=1,COUNTIF(L$2:L$10,0)=1,COUNTIF($L$5:$N$7,0)=1),$L$1,\"\"),\"\")","v":""},"","",{"$f":"IF(O5=0,IF(OR(COUNTIF($L5:$T5,0)=1,COUNTIF(O$2:O$10,0)=1,COUNTIF($O$5:$Q$7,0)=1),$L$1,\"\"),\"\")","v":""},"","",{"$f":"IF(R5=0,IF(OR(COUNTIF($L5:$T5,0)=1,COUNTIF(R$2:R$10,0)=1,COUNTIF($R$5:$T$7,0)=1),$L$1,\"\"),\"\")","v":""},"",""]
[null,null,null,null,null,null,null,null,null,null,null,null,null,null,null,null,null,null,null,null,null,"","","","","","","","",""]
[null,null,null,null,null,null,null,null,null,null,null,null,null,null,null,null,null,null,null,null,null,"","","","","","","","",""]
[null,null,null,null,null,null,null,null,null,null,null,null,null,null,null,null,null,null,null,null,null,{"$f":"IF(L8=0,IF(OR(COUNTIF($L8:$T8,0)=1,COUNTIF(L$2:L$10,0)=1,COUNTIF($L$4:$N$8,10)=1),$L$1,\"\"),\"\")","v":""},"","",{"$f":"IF(O8=0,IF(OR(COUNTIF($L8:$T8,0)=1,COUNTIF(O$2:O$10,0)=1,COUNTIF($O$8:$Q$10,0)=1),$L$1,\"\"),\"\")","v":""},"","",{"$f":"IF(R8=0,IF(OR(COUNTIF($L8:$T8,0)=1,COUNTIF(R$2:R$10,0)=1,COUNTIF($R$8:$T$10,0)=1),$L$1,\"\"),\"\")","v":""},"",""]
[null,null,null,null,null,null,null,null,null,null,null,null,null,null,null,null,null,null,null,null,null,"","","","","","","","",""]
[null,null,null,null,null,null,null,null,null,null,null,null,null,null,null,null,null,null,null,null,null,"","","","","","","","",""]
[]
[]
[{"$f":"Overall!A24","v":0},{"$f":"Overall!B24","v":0},{"$f":"Overall!C24","v":9},{"$f":"Overall!D24","v":5},{"$f":"Overall!E24","v":0},{"$f":"Overall!F24","v":0},{"$f":"Overall!G24","v":0},{"$f":"Overall!H24","v":0},{"$f":"Overall!I24","v":6}]
[{"$f":"Overall!A25","v":0},{"$f":"Overall!B25","v":0},{"$f":"Overall!C25","v":4},{"$f":"Overall!D25","v":9},{"$f":"Overall!E25","v":0},{"$f":"Overall!F25","v":2},{"$f":"Overall!G25","v":0},{"$f":"Overall!H25","v":8},{"$f":"Overall!I25","v":0}]
[{"$f":"Overall!A26","v":0},{"$f":"Overall!B26","v":6},{"$f":"Overall!C26","v":0},{"$f":"Overall!D26","v":0},{"$f":"Overall!E26","v":0},{"$f":"Overall!F26","v":0},{"$f":"Overall!G26","v":0},{"$f":"Overall!H26","v":0},{"$f":"Overall!I26","v":0}]
[{"$f":"Overall!A27","v":1},{"$f":"Overall!B27","v":0},{"$f":"Overall!C27","v":0},{"$f":"Overall!D27","v":0},{"$f":"Overall!E27","v":0},{"$f":"Overall!F27","v":8},{"$f":"Overall!G27","v":0},{"$f":"Overall!H27","v":0},{"$f":"Overall!I27","v":3}]
[{"$f":"Overall!A28","v":0},{"$f":"Overall!B28","v":0},{"$f":"Overall!C28","v":6},{"$f":"Overall!D28","v":0},{"$f":"Overall!E28","v":9},{"$f":"Overall!F28","v":0},{"$f":"Overall!G28","v":2},{"$f":"Overall!H28","v":0},{"$f":"Overall!I28","v":0}]
[{"$f":"Overall!A29","v":5},{"$f":"Overall!B29","v":0},{"$f":"Overall!C29","v":0},{"$f":"Overall!D29","v":7},{"$f":"Overall!E29","v":0},{"$f":"Overall!F29","v":0},{"$f":"Overall!G29","v":0},{"$f":"Overall!H29","v":0},{"$f":"Overall!I29","v":1}]
[{"$f":"Overall!A30","v":0},{"$f":"Overall!B30","v":0},{"$f":"Overall!C30","v":0},{"$f":"Overall!D30","v":0},{"$f":"Overall!E30","v":0},{"$f":"Overall!F30","v":0},{"$f":"Overall!G30","v":0},{"$f":"Overall!H30","v":7},{"$f":"Overall!I30","v":0}]
[{"$f":"Overall!A31","v":0},{"$f":"Overall!B31","v":1},{"$f":"Overall!C31","v":0},{"$f":"Overall!D31","v":8},{"$f":"Overall!E31","v":0},{"$f":"Overall!F31","v":9},{"$f":"Overall!G31","v":5},{"$f":"Overall!H31","v":0},{"$f":"Overall!I31","v":0}]
[{"$f":"Overall!A32","v":4},{"$f":"Overall!B32","v":0},{"$f":"Overall!C32","v":0},{"$f":"Overall!D32","v":0},{"$f":"Overall!E32","v":0},{"$f":"Overall!F32","v":7},{"$f":"Overall!G32","v":6},{"$f":"Overall!H32","v":0},{"$f":"Overall!I32","v":0}]

{"sheet":"8","index":8,"n_rows":32,"n_cols":30,"rows_kept":32,"cut":false,"hidden":false,"merged":[]}
[null,null,null,null,null,null,null,null,null,null,null,8]
[null,null,null,null,null,null,null,null,null,null,null,{"$f":"IF(A24=$L$1,2,IF(A24<>0,1,IF((COUNTIF($A24:$I24,$L$1)+COUNTIF(A$24:A$32,$L$1)+COUNTIF($A$24:$C$26,$L$1))<>0,3,0)))","v":0},0,1,{"$f":"IF(D24=$L$1,2,IF(D24<>0,1,IF((COUNTIF($A24:$I24,$L$1)+COUNTIF(D$24:D$32,$L$1)+COUNTIF($D$24:$F$26,$L$1))<>0,3,0)))","v":1},0,3,{"$f":"IF(G24=$L$1,2,IF(G24<>0,1,IF((COUNTIF($A24:$I24,$L$1)+COUNTIF(G$24:G$32,$L$1)+COUNTIF($G$24:$I$26,$L$1))<>0,3,0)))","v":3},3,1,null,{"$f":"IF(L2>0,1,0)","v":0},{"$f":"IF(M2>0,1,0)","v":0},{"$f":"IF(N2>0,1,0)","v":1},{"$f":"IF(O2>0,1,0)","v":1},{"$f":"IF(P2>0,1,0)","v":0},{"$f":"IF(Q2>0,1,0)","v":1},{"$f":"IF(R2>0,1,0)","v":1},{"$f":"IF(S2>0,1,0)","v":1},{"$f":"IF(T2>0,1,0)","v":1}]
[null,null,null,null,null,null,null,null,null,null,null,3,3,1,1,3,1,3,2,3,null,1,1,1,1,1,1,1,1,1]
[null,null,null,null,null,null,null,null,null,null,null,0,1,0,3,0,3,3,3,3,null,0,1,0,1,0,1,1,1,1]
[null,null,null,null,null,null,null,null,null,null,null,{"$f":"IF(A27=$L$1,2,IF(A27<>0,1,IF((COUNTIF($A27:$I27,$L$1)+COUNTIF(A$24:A$32,$L$1)+COUNTIF($A$27:$C$29,$L$1))<>0,3,0)))","v":1},3,3,{"$f":"IF(D27=$L$1,2,IF(D27<>0,1,IF((COUNTIF($A27:$I27,$L$1)+COUNTIF(D$24:D$32,$L$1)+COUNTIF($D$27:$F$29,$L$1))<>0,3,0)))","v":3},3,2,{"$f":"IF(G27=$L$1,2,IF(G27<>0,1,IF((COUNTIF($A27:$I27,$L$1)+COUNTIF(G$24:G$32,$L$1)+COUNTIF($G$27:$I$29,$L$1))<>0,3,0)))","v":3},3,1,null,1,1,1,1,1,1,1,1,1]
[null,null,null,null,null,null,null,null,null,null,null,0,0,1,3,1,3,1,3,0,null,0,0,1,1,1,1,1,1,0]
[null,null,null,null,null,null,null,null,null,null,null,1,0,0,1,3,3,0,3,1,null,1,0,0,1,1,1,0,1,1]
[null,null,null,null,null,null,null,null,null,null,null,{"$f":"IF(A30=$L$1,2,IF(A30<>0,1,IF((COUNTIF($A30:$I30,$L$1)+COUNTIF(A$24:A$32,$L$1)+COUNTIF($A$30:$C$32,$L$1))<>0,3,0)))","v":0},0,0,{"$f":"IF(D30=$L$1,2,IF(D30<>0,1,IF((COUNTIF($A30:$I30,$L$1)+COUNTIF(D$24:D$32,$L$1)+COUNTIF($D$30:$F$32,$L$1))<>0,3,0)))","v":3},3,3,{"$f":"IF(G30=$L$1,2,IF(G30<>0,1,IF((COUNTIF($A30:$I30,$L$1)+COUNTIF(G$24:G$32,$L$1)+COUNTIF($G$30:$I$32,$L$1))<>0,3,0)))","v":0},1,0,null,0,0,0,1,1,1,0,1,0]
[null,null,null,null,null,null,null,null,null,null,null,3,1,3,2,3,1,1,3,3,null,1,1,1,1,1,1,1,1,1]
[null,null,null,null,null,null,null,null,null,null,null,1,0,0,3,3,1,1,3,0,null,1,0,0,1,1,1,1,1,0]
[]
[]
[null,null,null,null,null,null,null,null,null,null,null,null,null,null,null,null,null,null,null,null,null,{"$f":"IF(L2=0,IF(OR(COUNTIF($L2:$T2,0)=1,COUNTIF(L$2:L$10,0)=1,COUNTIF($L$2:$N$4,0)=1),$L$1,\"\"),\"\")","v":""},"","",{"$f":"IF(O2=0,IF(OR(COUNTIF($L2:$T2,0)=1,COUNTIF(O$2:O$10,0)=1,COUNTIF($O$2:$Q$4,0)=1),$L$1,\"\"),\"\")","v":""},"","",{"$f":"IF(R2=0,IF(OR(COUNTIF($L2:$T2,0)=1,COUNTIF(R$2:R$10,0)=1,COUNTIF($R$2:$T$4,0)=1),$L$1,\"\"),\"\")","v":""},"",""]
[null,null,null,null,null,null,null,null,null,null,null,null,null,null,null,null,null,null,null,null,null,"","","","","","","","",""]
[null,null,null,null,null,null,null,null,null,null,null,null,null,null,null,null,null,null,null,null,null,"","","","","","","","",""]
[null,null,null,null,null,null,null,null,null,null,null,null,null,null,null,null,null,null,null,null,null,{"$f":"IF(L5=0,IF(OR(COUNTIF($L5:$T5,0)=1,COUNTIF(L$2:L$10,0)=1,COUNTIF($L$5:$N$7,0)=1),$L$1,\"\"),\"\")","v":""},"","",{"$f":"IF(O5=0,IF(OR(COUNTIF($L5:$T5,0)=1,COUNTIF(O$2:O$10,0)=1,COUNTIF($O$5:$Q$7,0)=1),$L$1,\"\"),\"\")","v":""},"","",{"$f":"IF(R5=0,IF(OR(COUNTIF($L5:$T5,0)=1,COUNTIF(R$2:R$10,0)=1,COUNTIF($R$5:$T$7,0)=1),$L$1,\"\"),\"\")","v":""},"",""]
[null,null,null,null,null,null,null,null,null,null,null,null,null,null,null,null,null,null,null,null,null,"","","","","","","","",""]
[null,null,null,null,null,null,null,null,null,null,null,null,null,null,null,null,null,null,null,null,null,"","","","","","","","",""]
[null,null,null,null,null,null,null,null,null,null,null,null,null,null,null,null,null,null,null,null,null,{"$f":"IF(L8=0,IF(OR(COUNTIF($L8:$T8,0)=1,COUNTIF(L$2:L$10,0)=1,COUNTIF($L$4:$N$8,10)=1),$L$1,\"\"),\"\")","v":""},"","",{"$f":"IF(O8=0,IF(OR(COUNTIF($L8:$T8,0)=1,COUNTIF(O$2:O$10,0)=1,COUNTIF($O$8:$Q$10,0)=1),$L$1,\"\"),\"\")","v":""},"","",{"$f":"IF(R8=0,IF(OR(COUNTIF($L8:$T8,0)=1,COUNTIF(R$2:R$10,0)=1,COUNTIF($R$8:$T$10,0)=1),$L$1,\"\"),\"\")","v":""},"",""]
[null,null,null,null,null,null,null,null,null,null,null,null,null,null,null,null,null,null,null,null,null,"","","","","","","","",""]
[null,null,null,null,null,null,null,null,null,null,null,null,null,null,null,null,null,null,null,null,null,"","","","","","","","",""]
[]
[]
[{"$f":"Overall!A24","v":0},{"$f":"Overall!B24","v":0},{"$f":"Overall!C24","v":9},{"$f":"Overall!D24","v":5},{"$f":"Overall!E24","v":0},{"$f":"Overall!F24","v":0},{"$f":"Overall!G24","v":0},{"$f":"Overall!H24","v":0},{"$f":"Overall!I24","v":6}]
[{"$f":"Overall!A25","v":0},{"$f":"Overall!B25","v":0},{"$f":"Overall!C25","v":4},{"$f":"Overall!D25","v":9},{"$f":"Overall!E25","v":0},{"$f":"Overall!F25","v":2},{"$f":"Overall!G25","v":0},{"$f":"Overall!H25","v":8},{"$f":"Overall!I25","v":0}]
[{"$f":"Overall!A26","v":0},{"$f":"Overall!B26","v":6},{"$f":"Overall!C26","v":0},{"$f":"Overall!D26","v":0},{"$f":"Overall!E26","v":0},{"$f":"Overall!F26","v":0},{"$f":"Overall!G26","v":0},{"$f":"Overall!H26","v":0},{"$f":"Overall!I26","v":0}]
[{"$f":"Overall!A27","v":1},{"$f":"Overall!B27","v":0},{"$f":"Overall!C27","v":0},{"$f":"Overall!D27","v":0},{"$f":"Overall!E27","v":0},{"$f":"Overall!F27","v":8},{"$f":"Overall!G27","v":0},{"$f":"Overall!H27","v":0},{"$f":"Overall!I27","v":3}]
[{"$f":"Overall!A28","v":0},{"$f":"Overall!B28","v":0},{"$f":"Overall!C28","v":6},{"$f":"Overall!D28","v":0},{"$f":"Overall!E28","v":9},{"$f":"Overall!F28","v":0},{"$f":"Overall!G28","v":2},{"$f":"Overall!H28","v":0},{"$f":"Overall!I28","v":0}]
[{"$f":"Overall!A29","v":5},{"$f":"Overall!B29","v":0},{"$f":"Overall!C29","v":0},{"$f":"Overall!D29","v":7},{"$f":"Overall!E29","v":0},{"$f":"Overall!F29","v":0},{"$f":"Overall!G29","v":0},{"$f":"Overall!H29","v":0},{"$f":"Overall!I29","v":1}]
[{"$f":"Overall!A30","v":0},{"$f":"Overall!B30","v":0},{"$f":"Overall!C30","v":0},{"$f":"Overall!D30","v":0},{"$f":"Overall!E30","v":0},{"$f":"Overall!F30","v":0},{"$f":"Overall!G30","v":0},{"$f":"Overall!H30","v":7},{"$f":"Overall!I30","v":0}]
[{"$f":"Overall!A31","v":0},{"$f":"Overall!B31","v":1},{"$f":"Overall!C31","v":0},{"$f":"Overall!D31","v":8},{"$f":"Overall!E31","v":0},{"$f":"Overall!F31","v":9},{"$f":"Overall!G31","v":5},{"$f":"Overall!H31","v":0},{"$f":"Overall!I31","v":0}]
[{"$f":"Overall!A32","v":4},{"$f":"Overall!B32","v":0},{"$f":"Overall!C32","v":0},{"$f":"Overall!D32","v":0},{"$f":"Overall!E32","v":0},{"$f":"Overall!F32","v":7},{"$f":"Overall!G32","v":6},{"$f":"Overall!H32","v":0},{"$f":"Overall!I32","v":0}]

{"sheet":"9","index":9,"n_rows":32,"n_cols":30,"rows_kept":32,"cut":false,"hidden":false,"merged":[]}
[null,null,null,null,null,null,null,null,null,null,null,9]
[null,null,null,null,null,null,null,null,null,null,null,{"$f":"IF(A24=$L$1,2,IF(A24<>0,1,IF((COUNTIF($A24:$I24,$L$1)+COUNTIF(A$24:A$32,$L$1)+COUNTIF($A$24:$C$26,$L$1))<>0,3,0)))","v":3},3,2,{"$f":"IF(D24=$L$1,2,IF(D24<>0,1,IF((COUNTIF($A24:$I24,$L$1)+COUNTIF(D$24:D$32,$L$1)+COUNTIF($D$24:$F$26,$L$1))<>0,3,0)))","v":1},3,3,{"$f":"IF(G24=$L$1,2,IF(G24<>0,1,IF((COUNTIF($A24:$I24,$L$1)+COUNTIF(G$24:G$32,$L$1)+COUNTIF($G$24:$I$26,$L$1))<>0,3,0)))","v":3},3,1,null,{"$f":"IF(L2>0,1,0)","v":1},{"$f":"IF(M2>0,1,0)","v":1},{"$f":"IF(N2>0,1,0)","v":1},{"$f":"IF(O2>0,1,0)","v":1},{"$f":"IF(P2>0,1,0)","v":1},{"$f":"IF(Q2>0,1,0)","v":1},{"$f":"IF(R2>0,1,0)","v":1},{"$f":"IF(S2>0,1,0)","v":1},{"$f":"IF(T2>0,1,0)","v":1}]
[null,null,null,null,null,null,null,null,null,null,null,3,3,1,2,3,1,3,1,3,null,1,1,1,1,1,1,1,1,1]
[null,null,null,null,null,null,null,null,null,null,null,3,1,3,3,3,3,0,0,0,null,1,1,1,1,1,1,0,0,0]
[null,null,null,null,null,null,null,null,null,null,null,{"$f":"IF(A27=$L$1,2,IF(A27<>0,1,IF((COUNTIF($A27:$I27,$L$1)+COUNTIF(A$24:A$32,$L$1)+COUNTIF($A$27:$C$29,$L$1))<>0,3,0)))","v":1},0,3,{"$f":"IF(D27=$L$1,2,IF(D27<>0,1,IF((COUNTIF($A27:$I27,$L$1)+COUNTIF(D$24:D$32,$L$1)+COUNTIF($D$27:$F$29,$L$1))<>0,3,0)))","v":3},3,1,{"$f":"IF(G27=$L$1,2,IF(G27<>0,1,IF((COUNTIF($A27:$I27,$L$1)+COUNTIF(G$24:G$32,$L$1)+COUNTIF($G$27:$I$29,$L$1))<>0,3,0)))","v":0},0,1,null,1,0,1,1,1,1,0,0,1]
[null,null,null,null,null,null,null,null,null,null,null,3,3,1,3,2,3,1,3,3,null,1,1,1,1,1,1,1,1,1]
[null,null,null,null,null,null,null,null,null,null,null,1,0,3,1,3,3,0,0,1,null,1,0,1,1,1,1,0,0,1]
[null,null,null,null,null,null,null,null,null,null,null,{"$f":"IF(A30=$L$1,2,IF(A30<>0,1,IF((COUNTIF($A30:$I30,$L$1)+COUNTIF(A$24:A$32,$L$1)+COUNTIF($A$30:$C$32,$L$1))<>0,3,0)))","v":0},0,3,{"$f":"IF(D30=$L$1,2,IF(D30<>0,1,IF((COUNTIF($A30:$I30,$L$1)+COUNTIF(D$24:D$32,$L$1)+COUNTIF($D$30:$F$32,$L$1))<>0,3,0)))","v":3},3,3,{"$f":"IF(G30=$L$1,2,IF(G30<>0,1,IF((COUNTIF($A30:$I30,$L$1)+COUNTIF(G$24:G$32,$L$1)+COUNTIF($G$30:$I$32,$L$1))<>0,3,0)))","v":0},1,0,null,0,0,1,1,1,1,0,1,0]
[null,null,null,null,null,null,null,null,null,null,null,3,1,3,1,3,2,1,3,3,null,1,1,1,1,1,1,1,1,1]
[null,null,null,null,null,null,null,null,null,null,null,1,0,3,3,3,1,1,0,0,null,1,0,1,1,1,1,1,0,0]
[]
[]
[null,null,null,null,null,null,null,null,null,null,null,null,null,null,null,null,null,null,null,null,null,{"$f":"IF(L2=0,IF(OR(COUNTIF($L2:$T2,0)=1,COUNTIF(L$2:L$10,0)=1,COUNTIF($L$2:$N$4,0)=1),$L$1,\"\"),\"\")","v":""},"","",{"$f":"IF(O2=0,IF(OR(COUNTIF($L2:$T2,0)=1,COUNTIF(O$2:O$10,0)=1,COUNTIF($O$2:$Q$4,0)=1),$L$1,\"\"),\"\")","v":""},"","",{"$f":"IF(R2=0,IF(OR(COUNTIF($L2:$T2,0)=1,COUNTIF(R$2:R$10,0)=1,COUNTIF($R$2:$T$4,0)=1),$L$1,\"\"),\"\")","v":""},"",""]
[null,null,null,null,null,null,null,null,null,null,null,null,null,null,null,null,null,null,null,null,null,"","","","","","","","",""]
[null,null,null,null,null,null,null,null,null,null,null,null,null,null,null,null,null,null,null,null,null,"","","","","","","","",""]
[null,null,null,null,null,null,null,null,null,null,null,null,null,null,null,null,null,null,null,null,null,{"$f":"IF(L5=0,IF(OR(COUNTIF($L5:$T5,0)=1,COUNTIF(L$2:L$10,0)=1,COUNTIF($L$5:$N$7,0)=1),$L$1,\"\"),\"\")","v":""},"","",{"$f":"IF(O5=0,IF(OR(COUNTIF($L5:$T5,0)=1,COUNTIF(O$2:O$10,0)=1,COUNTIF($O$5:$Q$7,0)=1),$L$1,\"\"),\"\")","v":""},"","",{"$f":"IF(R5=0,IF(OR(COUNTIF($L5:$T5,0)=1,COUNTIF(R$2:R$10,0)=1,COUNTIF($R$5:$T$7,0)=1),$L$1,\"\"),\"\")","v":""},"",""]
[null,null,null,null,null,null,null,null,null,null,null,null,null,null,null,null,null,null,null,null,null,"","","","","","","","",""]
[null,null,null,null,null,null,null,null,null,null,null,null,null,null,null,null,null,null,null,null,null,"","","","","","","","",""]
[null,null,null,null,null,null,null,null,null,null,null,null,null,null,null,null,null,null,null,null,null,{"$f":"IF(L8=0,IF(OR(COUNTIF($L8:$T8,0)=1,COUNTIF(L$2:L$10,0)=1,COUNTIF($L$4:$N$8,10)=1),$L$1,\"\"),\"\")","v":9},"","",{"$f":"IF(O8=0,IF(OR(COUNTIF($L8:$T8,0)=1,COUNTIF(O$2:O$10,0)=1,COUNTIF($O$8:$Q$10,0)=1),$L$1,\"\"),\"\")","v":""},"","",{"$f":"IF(R8=0,IF(OR(COUNTIF($L8:$T8,0)=1,COUNTIF(R$2:R$10,0)=1,COUNTIF($R$8:$T$10,0)=1),$L$1,\"\"),\"\")","v":""},"",""]
[null,null,null,null,null,null,null,null,null,null,null,null,null,null,null,null,null,null,null,null,null,"","","","","","","","",""]
[null,null,null,null,null,null,null,null,null,null,null,null,null,null,null,null,null,null,null,null,null,"","","","","","","","",""]
[]
[]
[{"$f":"Overall!A24","v":0},{"$f":"Overall!B24","v":0},{"$f":"Overall!C24","v":9},{"$f":"Overall!D24","v":5},{"$f":"Overall!E24","v":0},{"$f":"Overall!F24","v":0},{"$f":"Overall!G24","v":0},{"$f":"Overall!H24","v":0},{"$f":"Overall!I24","v":6}]
[{"$f":"Overall!A25","v":0},{"$f":"Overall!B25","v":0},{"$f":"Overall!C25","v":4},{"$f":"Overall!D25","v":9},{"$f":"Overall!E25","v":0},{"$f":"Overall!F25","v":2},{"$f":"Overall!G25","v":0},{"$f":"Overall!H25","v":8},{"$f":"Overall!I25","v":0}]
[{"$f":"Overall!A26","v":0},{"$f":"Overall!B26","v":6},{"$f":"Overall!C26","v":0},{"$f":"Overall!D26","v":0},{"$f":"Overall!E26","v":0},{"$f":"Overall!F26","v":0},{"$f":"Overall!G26","v":0},{"$f":"Overall!H26","v":0},{"$f":"Overall!I26","v":0}]
[{"$f":"Overall!A27","v":1},{"$f":"Overall!B27","v":0},{"$f":"Overall!C27","v":0},{"$f":"Overall!D27","v":0},{"$f":"Overall!E27","v":0},{"$f":"Overall!F27","v":8},{"$f":"Overall!G27","v":0},{"$f":"Overall!H27","v":0},{"$f":"Overall!I27","v":3}]
[{"$f":"Overall!A28","v":0},{"$f":"Overall!B28","v":0},{"$f":"Overall!C28","v":6},{"$f":"Overall!D28","v":0},{"$f":"Overall!E28","v":9},{"$f":"Overall!F28","v":0},{"$f":"Overall!G28","v":2},{"$f":"Overall!H28","v":0},{"$f":"Overall!I28","v":0}]
[{"$f":"Overall!A29","v":5},{"$f":"Overall!B29","v":0},{"$f":"Overall!C29","v":0},{"$f":"Overall!D29","v":7},{"$f":"Overall!E29","v":0},{"$f":"Overall!F29","v":0},{"$f":"Overall!G29","v":0},{"$f":"Overall!H29","v":0},{"$f":"Overall!I29","v":1}]
[{"$f":"Overall!A30","v":0},{"$f":"Overall!B30","v":0},{"$f":"Overall!C30","v":0},{"$f":"Overall!D30","v":0},{"$f":"Overall!E30","v":0},{"$f":"Overall!F30","v":0},{"$f":"Overall!G30","v":0},{"$f":"Overall!H30","v":7},{"$f":"Overall!I30","v":0}]
[{"$f":"Overall!A31","v":0},{"$f":"Overall!B31","v":1},{"$f":"Overall!C31","v":0},{"$f":"Overall!D31","v":8},{"$f":"Overall!E31","v":0},{"$f":"Overall!F31","v":9},{"$f":"Overall!G31","v":5},{"$f":"Overall!H31","v":0},{"$f":"Overall!I31","v":0}]
[{"$f":"Overall!A32","v":4},{"$f":"Overall!B32","v":0},{"$f":"Overall!C32","v":0},{"$f":"Overall!D32","v":0},{"$f":"Overall!E32","v":0},{"$f":"Overall!F32","v":7},{"$f":"Overall!G32","v":6},{"$f":"Overall!H32","v":0},{"$f":"Overall!I32","v":0}]